BEGIN:VCALENDAR
VERSION:2.0
PRODID:-//Jasmijn Koelink - ECPv6.15.14//NONSGML v1.0//EN
CALSCALE:GREGORIAN
METHOD:PUBLISH
X-ORIGINAL-URL:https://jasmijnkoelink.com
X-WR-CALDESC:Evenementen voor Jasmijn Koelink
REFRESH-INTERVAL;VALUE=DURATION:PT1H
X-Robots-Tag:noindex
X-PUBLISHED-TTL:PT1H
BEGIN:VTIMEZONE
TZID:UTC
BEGIN:STANDARD
TZOFFSETFROM:+0000
TZOFFSETTO:+0000
TZNAME:UTC
DTSTART:20210101T000000
END:STANDARD
END:VTIMEZONE
BEGIN:VEVENT
DTSTART;VALUE=DATE:20220204
DTEND;VALUE=DATE:20220207
DTSTAMP:20260425T123944
CREATED:20211201T125337Z
LAST-MODIFIED:20211201T130226Z
UID:7508-1643932800-1644191999@jasmijnkoelink.com
SUMMARY:Stressreductie met Adem & The Work
DESCRIPTION:Een verstillend weekend vol adem\, inzicht & (innerlijke) vrijheid\nEen intensieve retreat met Jasmijn Koelink in een retraite & wellness centrum in Zeeland. Met gezonde vegetarisch biologische voeding\, sauna’s\, hottub\, buitenzwembad\, massages en evt. coaching. Even op adem komen met ontspanning\, beweging\, verdieping en ontmoetingen met gelijkgestemden. \nBen je je bewust van pijnlijke patronen maar lukt het je niet goed om ze te doorbreken? Dan is deze retraite iets voor jou. Dompel jezelf onder en ontdek wat de combinatie van zelfbevraging\, adem en beweging voor je kan betekenen. Geniet van de rust en laat je ontzorgen in het wellness centrum De Schouw – Zeeland! \nDe methode die Jasmijn hanteert is The Work© van Byron Katie\, een eenvoudige maar diepgaande vorm van (begeleide) meditatie. Perfect voor deelnemers aan Jasmijn’s andere programma’s – perfect voor nieuwkomers. \nStressreductie retraite in het kort:\nPak de bron van stress aan! Onder begeleiding van Jasmijn spoor je pijnlijke en beperkende gedachten op en bevraag je deze middels The Work van Byron Katie ©. The Work is meditatie. En iedereen met een open geest – lees bereidwilligheid – kan The Work doen. De methode is simpel\, direct toepasbaar en diep persoonlijk werk. Het stelt je in staat om toegang te krijgen tot je eigen innerlijke wijsheid – die altijd voor je beschikbaar is en niet afhankelijk van andermans wijsheid. \nSchrijf je in voor dit programma\nDaar tref je ook prijzen\, tijden en informatie over de locatie. \nOpen je geest en hart tijdens dit unieke verstillende weekend en ervaar direct meer vrijheid\, vreugde en rust\nTijdens deze dagen kun je volledig ontspannen in toegankelijke ademsessies\, geleide meditaties en verrassende oefeningen. Het wellness centrum ontzorgt je in alledaagse voorzieningen. Je vertrekt met een heldere geest en een open hart. Geïnspireerd\, in verbinding met jezelf én anderen. \n  \nThe Work is een vorm van meditatie\nTijdens de retraite word je gewaar van je stressvolle gedachten – voor zover je dat nog niet was. Ik doe het niet goed\, mijn kinderen zouden naar me moeten luisteren\, de wereld gaat naar de knoppen\, ik heb niet genoeg geld\, mijn moeder heeft mijn leven verpest\, mijn partner zou me meer moeten waarderen – de lijst is eindeloos. Door dit soort gedachten op papier te zetten stabiliseer je ze\, en kun je ze vervolgens bevragen met vier simpele vragen en omkeringen. \nJe hebt geen enkele ervaring nodig met meditatie. Het enige wat je enorm van dienst zal zijn tijdens dit programma is een open geest. Deze methode is namelijk simpel maar radicaal\, op de meest liefdevolle manier die je je kunt voorstellen. \nWelkom in de realiteit\, die altijd vriendelijker is dan wat je erover denkt. \n  \nEen nieuwe manier van vrijheid ervaren\nTijdens dit weekend gebruik je je eigen levenservaring om díe specifieke overtuigingen die je dwars zitten te bevragen. Want zoals je waarschijnlijk al vermoed\, zijn je gedachten niet altijd noodzakelijk waar. Dit programma is voor iedereen die wat meer vrijheid willen ervaren. \n“In 2014 maakte ik kennis met The Work\, na wat voelt als een leven lang worstelen met gedachten als “Ik ben niet goed genoeg” of “Ik ben niet interessant genoeg”. Ik maakte me altijd zorgen over wat anderen van me dachten\, hoe ze me zagen. En door The Work te doen\, misschien wel voor de eerste keer in mijn leven\, realiseerde ik me hoeveel deze gedachten me uitputten. \nIk geef al jaren yogaworkshops\, retreats en les in lerarenopleidingen en The Work voelt als de ontbrekende schakel. Een flexibele geest in een flexibel lichaam. Doordat ik door yoga stress in mijn lichaam herken en The Work leert mij dat er altijd een specifieke gedachte is die stress veroorzaakt. Ik ervaar hoe lichaam en geest met elkaar verband houden” ~ Jasmijn. \nOnder begeleiding van simpele oefeningen vanuit The Work (en met de vier vragen en omkeringen) zul je ervaren dat je vrijheid niet ligt in het niet meer hebben van stressvolle gedachten – je vrijheid ís om deze belemmerende gedachten te bevragen en met begrip te benaderen\, waardoor je minder aan ze gehecht bent. \nJasmijn brengt haar eigen expertise in tijdens dit unieke programma. Je zult ruimte ervaren door de opbouw en begeleiding om veilig\, ongecensureerd en ongegeneerd je geest op papier te zetten. \nMet meditatie en simpele yoga- en ademsessies voegt Jasmijn – yogadocent\, psycholoog en gecertificeerd facilitator van The Work – fysieke ontspanning en verdieping toe die het bevragen van je gedachten zoveel meer moeiteloos maakt. \n  \nThe Work – en meer. Ontdek hoe het drieluik van meditatie (in beweging)\, The Work en ademwerk je wereld kan veranderen.\n  \nDeelnemers over dit programma \nSuperwaardevol\, life changing zelfs! \nWat een rijkdom om je eigen stressvolle gedachten op deze manier te bevragen! Het geeft een heel ander perspectief op hoe ik in elke situatie zelf meer verantwoordelijkheid kan nemen. \nDank voor de heerlijke eerlijke voorbeelden; verfrissend. \nIk leerde radicaal eerlijk en toch liefdevol naar mezelf te zijn\, ook in de moeilijkste onderwerpen. \nHet enthousiasme en veilige sfeer die je als begeleider bracht omdat dat mij hielp om mijn moeilijke gedachten en gevoel los te laten. Bedankt hiervoor. \nHet heeft me veel inzicht gegeven in de beperkingen van mijn huidige handelswijze en de beschikbare ruimte om daarin stappen te zetten en situaties te veranderen. In plaats van te verwachten dat dit bij een ander vandaan zou moeten komen. \nHet was fijn om bezig te zijn met mijn eigen gedachtewereld en deze aandacht en ruimte te geven\, te ordenen en stuk los te laten met humor. \nJasmijn’s sessies zijn heerlijk\, duidelijk\, krachtig\, zacht\, divers en de instructies helder. Ik voel me gezien. \nIk heb nu meer ruimte voor de ander\, een open blik en compassie voor de ander en mezelf. \nIk heb meer inzicht gekregen. En bewust vanuit meerdere perspectieven blijven kijken naar dingen en situaties is zo waardevol. \n  \nAangeraden\nWil je je voorafgaand kennismaken met The Work of met Jasmijn? Dan kunnen de volgende bronnen je ondersteunen: \n\nLoving What Is van Byron Katie (in het Nederlands vertaald als Vier Vragen die je Leven Veranderen) is een fantastische manier om kennis te maken met The Work. Je kan ook het boek luisteren luisterboek.\nOm een introductie van The Work te krijgen kun je dit interview van Susan Piver met Byron Katie bekijken.\nZie The Work in actie met een van de honderden video’s die online staan. Hierdoor krijg je een direct beeld van hoe The Work werkt. Hier zijn een paar sessies in een aangemaakte playlist op YouTube. Alle sessies zijn een ingrijpend voorbeeld van zelfbevraging.\n\n  \nAl op adem komen voordat het programma begint kun je met deze gratis ademsessies met Jasmijn. \n  \nJa ik schrijf me in voor dit programma!\n  \nOver Jasmijn\nOrganisatiepsycholoog en yogadocent Jasmijn Koelink ervaart The Work als een yoga beoefening voor de geest. Ze geeft al jaren wekelijkse lessen en leidt een van de meest gerenommeerde yoga docentenopleidingen in Nederland. Ze biedt online sessies en gespecialiseerde workshops aan\, zodat je op elk moment en elke tijd gebruikt kunt maken van haar begeleiding. Ze is gecertificeerd facilitator van The Work. \n  \n \n‘The Work zie ik als een yoga beoefening voor mijn geest. Ik merk de neigingen van mijn geest op en hoe ze mij klein en gevangen houden in oude denkpatronen en beschermingsmechanismen. Ik bevraag mijn stressvolle gedachten vrij\, en mijn lichaam volgt. Voor mij dé manier waarop ik yoga van de mat in mijn dagelijks leven breng – die ik steeds meer als vriendelijker\, levendiger en vrijer ervaar!’
URL:https://jasmijnkoelink.com/programma/stressreductie-met-adem-the-work/
CATEGORIES:Agenda,retraites
ATTACH;FMTTYPE=image/png:https://jasmijnkoelink.com/wp-content/uploads/2020/10/Schermafbeelding-2020-10-13-om-19.23.23.png
END:VEVENT
BEGIN:VEVENT
DTSTART;VALUE=DATE:20220211
DTEND;VALUE=DATE:20220704
DTSTAMP:20260425T123944
CREATED:20171018T121850Z
LAST-MODIFIED:20220118T113141Z
UID:2004-1644537600-1656892799@jasmijnkoelink.com
SUMMARY:Yoga Moves Vinyasa Teacher Training (200h)
DESCRIPTION:Become a professional yoga teacher (RYT 200 hours)\nAs a beginning yoga teacher\, the first step is to enable you to share the gifts of yoga to a broad range of people. We focus on giving you a solid foundation and help you master the fundamentals. As a more experienced teacher\, you look for depth and creativity\, new ways to reach more people. Let us help you get there. We invite you to join one of our professional training programs. We hope it will mark the beginning (or continuation) of a successful career as a yoga teacher. \nYoga Moves Teacher Training Programs\nThe Yoga Moves Teacher Training Program consists of a Foundational Vinyasa Teacher Training (200 hrs). Since the start of our training school in 2001\, Yoga Moves has successfully trained hundreds of alumni\, some have become the most well-known yogis in The Netherlands. Make a difference in other people’s lives! \n\n\nYoga Moves Vinyasa Teacher Training (RYT 200 hours)\nDo what you love! Deepen your practice. And learn how to teach.\nMaster the fundamentals\, broaden your understanding of yoga\, help you to find your voice\, your confidence and learn how to share your love of yoga! Completing our program will mark the beginning of your new life as a skilled and inspired yoga teacher. \nFrom day one we will guide you in deepening your practice and honing your skills to become a confident and empowering teacher. Become a source of inspiration begins with your own personal yoga practice\, both on and off the mat. Yoga is not just physical gymnastics\, but a practice of the heart\, mind and spirit. Be prepared to push your mental and physical boundaries through this journey. \nWe offer the Vinyasa Teacher Training (200 hours) in 2 formats. Both programs have the same curriculum and hours of training: \n\nLong Weekend Program starting 11 february 2022\nIntensive Summer Training – starts July 2022 in The Hague\n\nReady to jump in and go on a journey with us?  \n \nLong program 2022 in Utrecht at Yoga Moves\nTimes: usually 12.30-19.30 \n\n11 – 13 February (3 days)\n25 – 27 February (3 days)\n25 – 27 March (3 days)\n10 April (different location: Studio One\, St. Janshovenstraat 1) (one day)\n15  – 17 April (3 days)\n30 April -1 May (2 days)\n13  – 15 May (3 days)\n10 – 12 June (3 days)\n01 – 03 July (3 days)\n\nDates Summer/Fall Program 2022 in The Hague:\nTimes will be 11.00-19.00 \n\nDates coming soon…\n\nMORE INFORMATION ABOUT THE TRAINING OR SIGN UP
URL:https://jasmijnkoelink.com/programma/yoga-moves-vinyasa-teacher-training-ryt-200-hours/
LOCATION:Yoga Moves\, St. Janshovenstraat 1\, Utrecht\, Netherlands
CATEGORIES:Agenda,trainingen,Utrecht,Yoga Moves
ATTACH;FMTTYPE=image/png:https://jasmijnkoelink.com/wp-content/uploads/2017/10/Schermafbeelding-2021-11-08-om-12.03.38.png
END:VEVENT
BEGIN:VEVENT
DTSTART;VALUE=DATE:20220223
DTEND;VALUE=DATE:20220224
DTSTAMP:20260425T123944
CREATED:20220118T122312Z
LAST-MODIFIED:20220118T122753Z
UID:7532-1645574400-1645660799@jasmijnkoelink.com
SUMMARY:FREE Webinar: Deep Dive Into Your Yin Side
DESCRIPTION:Are you ready to step out of your everyday life and into your own wonderful life? \nJoin José and Jasmijn on 23rd Feb 2022 from 8-9 pm\, as they combine forces to offer you an experience that will show you the potential of what you could learn in their NEW 300 hour Yin Yoga RETREAT Teacher Training! \nIn this free session\, you will experience firsthand the powerful combination of self-inquiry\, The Work (with Jasmijn Koelink)  and Yin Yoga\, Anatomy & Eastern Philosophies with José de Groot. Together they will guide you through a self-inquiry meditation and short Yin Practice. \nRegister for free webinar\nMore about the NEW 300 hour Yin Yoga\, Anatomy and Meridian Teacher Training – \nstarting January 28th 2023\nAre you interested in deepening your yoga practice and self-development? Or are you looking for a Yoga Teacher Training that will equip you not only with a thorough understanding and application of safe and personalized Yin yoga\, but also tools to empower you to become a confident\, inspiring\, and self-aware teacher? \nThe goal of this new Yin Yoga RETREAT Teacher Training is to give you the ability to translate your understanding of the Yin yoga philosophy\, Meridian theory\, anatomy\, and asana into a personalized and safe practice for yourself and others. The energetic awareness you gain helps you to connect to who you truly are and to relate to your yoga class and groups in general in your unique and self-confident way. The tools you gain to explore yourself and to inspire your students to grow through yoga by facing their ‘inner work’. \nLearn more about his new training here
URL:https://jasmijnkoelink.com/programma/free-webinar-deep-dive-into-your-yin-side/
CATEGORIES:Agenda,retraites
ATTACH;FMTTYPE=image/jpeg:https://jasmijnkoelink.com/wp-content/uploads/2022/01/Jose-en-Jasmijn-profiel-foto.jpg
END:VEVENT
END:VCALENDAR