BEGIN:VCALENDAR
VERSION:2.0
PRODID:-//Jasmijn Koelink - ECPv6.15.14//NONSGML v1.0//EN
CALSCALE:GREGORIAN
METHOD:PUBLISH
X-ORIGINAL-URL:https://jasmijnkoelink.com
X-WR-CALDESC:Evenementen voor Jasmijn Koelink
REFRESH-INTERVAL;VALUE=DURATION:PT1H
X-Robots-Tag:noindex
X-PUBLISHED-TTL:PT1H
BEGIN:VTIMEZONE
TZID:UTC
BEGIN:STANDARD
TZOFFSETFROM:+0000
TZOFFSETTO:+0000
TZNAME:UTC
DTSTART:20210101T000000
END:STANDARD
END:VTIMEZONE
BEGIN:VEVENT
DTSTART;VALUE=DATE:20220820
DTEND;VALUE=DATE:20221212
DTSTAMP:20260424T001921
CREATED:20220630T092357Z
LAST-MODIFIED:20220630T092510Z
UID:7591-1660953600-1670803199@jasmijnkoelink.com
SUMMARY:Yoga Moves Summer Teacher Training (200h)
DESCRIPTION:Become a professional yoga teacher (RYT 200h) | SUMMER INTENSIVE\nADo what you love! Deepen your practice\, learn how to teach and become a certified teacher. Are you ready to make this Summer special? \nYoga Moves Utrecht offer their Summer Training Program (200 hours) as an intensive program in the summer/fall period. In 2022 it will be hosted by our friends from Yogaseads studio\, located at the heart of the famous Scheveningen beach. These beautiful surroundings and a one-of-a-kind vibe will make the experience unique and definitely something to remember! \nWhat can you expect from the training?\nMaster the fundamentals\, broaden your understanding of yoga\, help you to find your voice\, your confidence\, and learn how to share your love of yoga! Completing our program will mark the beginning of your new life. \nFrom day one we will guide you in deepening your practice and honing your skills to become a confident and empowering teacher. Become a source of inspiration begins with your own personal yoga practice\, both on and off the mat. Yoga is not just physical gymnastics\, but a practice of the heart\, mind and spirit. Be prepared to push your mental and physical boundaries through this journey. \nWhen does the training start?\nWe start in August 2022 \n\n20 – 27 August\n23 – 25 September\n14  – 16 October\n11 – 13 November\n25 – 27 November\n9 – 11 December\n\nAs a beginning yoga teacher\, the first step is to enable you to share the gifts of yoga to a broad range of people. We focus on giving you a solid foundation and help you master the fundamentals. As a more experienced teacher\, you look for depth and creativity\, new ways to reach more people. Let us help you get there. We invite you to join one of our professional training programs. We hope it will mark the beginning (or continuation) of a successful career as a yoga teacher. \nMORE INFO OR SIGN UP\nYoga Moves Teacher Training Programs\nThe Yoga Moves Teacher Training Program consists of a Foundational Vinyasa Teacher Training (200 hrs). Since the start of our training school in 2001\, Yoga Moves has successfully trained hundreds of alumni\, some have become the most well-known yogis in The Netherlands. Make a difference in other people’s lives! \n\n\nYoga Moves Vinyasa Teacher Training (RYT 200h)\nDo what you love! Deepen your practice. And learn how to teach.\nMaster the fundamentals\, broaden your understanding of yoga\, help you to find your voice\, your confidence and learn how to share your love of yoga! Completing our program will mark the beginning of your new life as a skilled and inspired yoga teacher. \nFrom day one we will guide you in deepening your practice and honing your skills to become a confident and empowering teacher. Become a source of inspiration begins with your own personal yoga practice\, both on and off the mat. Yoga is not just physical gymnastics\, but a practice of the heart\, mind and spirit. Be prepared to push your mental and physical boundaries through this journey. \nWe offer the Vinyasa Teacher Training (200 hours) in 2 formats. Both programs have the same curriculum and hours of training: \n\nIntensive Summer Training – starts 20 August 2022 in The Hague\nLong Weekend Program starting January 2023\n\nReady to jump in and go on a journey with us?  \n \nMORE INFO OR SIGN UP
URL:https://jasmijnkoelink.com/programma/yoga-moves-teacher-training-200h-3/
LOCATION:Yoga Moves\, St. Janshovenstraat 1\, Utrecht\, Netherlands
CATEGORIES:Agenda,trainingen,Yoga Moves
ATTACH;FMTTYPE=image/jpeg:https://jasmijnkoelink.com/wp-content/uploads/2018/07/YM-TT-SUMMER-FLYER.jpg
END:VEVENT
BEGIN:VEVENT
DTSTART;VALUE=DATE:20221216
DTEND;VALUE=DATE:20221219
DTSTAMP:20260424T001921
CREATED:20211124T144754Z
LAST-MODIFIED:20221128T094114Z
UID:7501-1671148800-1671407999@jasmijnkoelink.com
SUMMARY:Total Stress Release - Aan de Hei
DESCRIPTION:Yogaweekend aan de Hei ism Happy Soul Travel \nop de Hoorneboeg\nHet programma\nOnze yogaweekenden starten altijd op vrijdagmiddag rond 16:30 uur met een korte introductie. Aansluitend volgt het diner in de stijlvolle woonkamer met haardkachel en grote ramen uitkijkend op de tuin en het bos. Na het diner volgt een meer uitgebreide kennismaking met de groep en een eerste yogales. Op zaterdag starten we met een meer dynamische yogales gevolgd door een uitgebreide brunch. Ook hierna is er weer voldoende me-time om zelf in te vullen\, je kunt bijvoorbeeld lekker de natuur in gaan of gebruik maken van de sauna of een massage ondergaan. In de middag is er nog een healthy snack en een meer verstilde yogales\, gevolgd door het diner. Op zondag hebben we weer een dynamische yogales en een lekkere brunch. Daarna heb je nog ruim tijd voor een wandeling\, massage of op een andere manier ontspannen. We eindigen met een laatste meditatie ’s middags en een afsluitende ronde. \nLet op: Alle lessen worden in het Nederlands of Engels gegeven afhankelijk van de docent en deelnemers. Alle docenten spreken Nederlands\, dus vragen kun je altijd in het Nederlands stellen. Globaal is het programma als hierboven maar dit kan een beetje afwijken per weekend. \n\nYogaweekend met Jasmijn: Total Stress Release\n\nOrganisatiepsycholoog en yogadocent Jasmijn Koelink is een Yoga Alliance® erkende docent. Haar lesstijl is geschikt voor zowel beginners als ervaren yogabeoefenaars\, omdat Jasmijn verschillende opties en individuele begeleiding integreert in haar lessen. Alle sessies zijn adem-georiënteerd\, diepgaand en ontspannend tegelijkertijd. Ze geeft al jaren wekelijkse lessen en leidt een van de meest gerenommeerde yoga docentenopleidingen in Nederland. Ze biedt online sessies en gespecialiseerde workshops aan\, zodat je op elk moment en elke tijd gebruikt kunt maken van haar begeleiding. Jasmijn is een gecertificeerd facilitator van The Work© van Byron Katie. Ze ervaart The Work als een yoga beoefening voor de geest. \nTijdens dit programma integreert Jasmijn ook oefeningen van The Work© van Byron Katie in. The Work is een eenvoudige maar diepgaande vorm van (begeleide) meditatie. Met toegankelijke oefeningen word je je gewaar van beperkende en stressvolle overtuigingen of gedachten die je vervolgens bevraagt en daarmee je patronen kan doorbreken. Deze methode van zelfbevraging is inmiddels een onmisbaar onderdeel van Jasmijn’s leven. \nIn combinatie met de andere onderdelen kom je letterlijk op adem. En bewuste ademhaling is één van de meest krachtige -en bewezen- manieren om stress te verminderen en jezelf te bevrijden. En één op de drie mensen heeft – in meer of mindere mate – stress-symptomen zoals ernstige vermoeidheid\, gespannenheid of nervositeit. Jasmijn begeleidt je door verschillende ademhalingsoefeningen om je adem te vertragen\, verlengen of reguleren. Waardoor je je direct lichter en beter voelt. \nErvaar zelf de kracht van je adem en yoga tijdens dit ontspannende weekend. Alle sessies zijn adem georiënteerd en ontspannend tegelijkertijd. In de combinatie van toegankelijke Vinyasa/Hatha en Yin Yoga\, ademhalingsoefeningen en meditatie leer je concrete tools om stress te herkennen in je lichaam en te verminderen. Hierdoor grijp je in voordat het de overhand neemt. Deze technieken kun je direct toepassen in je dagelijks leven. \nDit weekend is geschikt voor zowel beginners en gevorderden\, want Jasmijn integreert verschillende opties en individuele begeleiding in haar lesstijl. Naast de sessies is er voldoende ruimte om te lezen\, te genieten van de omgeving\, een wandeling over de hei of te rusten. De lessen worden in het Nederlands of Engels gegeven\, afhankelijk van de deelnemers. \n  \n\n \n  \n\nSchrijf je nu in voor een heerlijk weekend: kom op adem! \nAdem jezelf stress vrij.\n\nJe kunt je inschrijven via de website van Happy Soul Travel. Daar vind je ook meer informatie over o.a. prijzen en kamertypen. Happy Soul Travel is een organisatie die al meer dan 13 jaar dé specialist is op het gebied van retraites\, in Nederland en daarbuiten. Zij selecteren o.a. bijzondere yoga retraites op diverse bestemmingen en bieden persoonlijk advies op maat naar de ultieme inspiratiereis.
URL:https://jasmijnkoelink.com/programma/yogaweekend-aan-de-hei-9/
CATEGORIES:Agenda,retraites
ATTACH;FMTTYPE=image/jpeg:https://jasmijnkoelink.com/wp-content/uploads/2021/11/Happy-soul-travel-scaled.jpeg
END:VEVENT
BEGIN:VEVENT
DTSTART;VALUE=DATE:20221228
DTEND;VALUE=DATE:20221229
DTSTAMP:20260424T001921
CREATED:20221128T102823Z
LAST-MODIFIED:20221128T102823Z
UID:7719-1672185600-1672271999@jasmijnkoelink.com
SUMMARY:Vind jezelf in je ademkracht
DESCRIPTION:ADEMWORKSHOP OP BUITENPLAATS DE HOORNEBOEG\, TIJDENS DE HOORNEBOEG WINTERWEKEN \nAdemhalen – je bent er vast niet vaak bewust mee bezig. Wat als je er wel bij stil zou staan? En wat levert het je op als je je ademhaling zou verbeteren? Daarover gaat deze workshop. Over ontspannen\, energie vrijmaken\, over ruimte maken\, over in contact zijn met je lichaam en kalm zijn in je hoofd. En misschien zelfs wel je neiging tot controle ietsjes loslaten. \nDe hele dag blijft je ademhaling de leidraad – zo wordt je geleidelijk aan steeds meer vertrouwd met dit anker in jezelf\, dat er hoe dan ook altijd is\, en de wijsheid die het je kan geven. \n❆ Woensdag 28 december van 10:00 tot 17:00 uur\n❆ Deelname kost € 150\,- incl. koffie/thee\, lunch en iets lekkers\n❆ Deze workshop is in In de Luwte op buitenplaats de Hoorneboeg (Hilversum) \n \nHOE ZIET DE DAG ERUIT?\n\nTussen 9.30 en 10.00 ben je welkom en is er tijd voor een kop thee of koffie met iets lekkers erbij. Je hebt de tijd om de plek te leren kennen en alvast de groep en de trainer te ontmoeten. Je wordt deze dag professioneel begeleid door Jasmijn Koelink. \nAdemwerk gaat in de eerste plaats over bewustwording. Na een welkom en eerste introductie over wat ademhaling voor je kan doen\, oefen je in de ochtend verschillende ademtechnieken die je verbinden met dat wat onbewust in jou aanwezig is. Zo kom je steeds dichterbij dat wat in jou leeft – soms zacht en subtiel\, soms juist heel helder een zeer aanwezig – alles wat zich voordoet is even waardevol om te ontdekken. \nTussen de middag verzorgt restaurant Bij de Tuinman een heerlijke\, vegetarische lunch. Ook heb je de tijd om even lekker naar buiten te gaan. Een rondje door het bos of over de heide… altijd fijn. \nNa de lunch verdiepen we de dag\, bijvoorbeeld door nog wat meer achtergronden te vertellen en je te laten ervaren hoe behulpzaam bewegen is bij het loslaten van spanning. De ademhaling blijft steeds de leidraad – en zo wordt je geleidelijk aan steeds meer vertrouwd met dit anker in jezelf\, dat er hoe dan ook altijd is\, en de wijsheid die het je kan geven. Rond 17:00 uur ronden we de dag af\, nadat we ook de tijd hebben genomen om ervaringen van deze dag met elkaar te delen. \nRIJK AAN ERVARING – STEEDS MET EEN DIEPE EN PERSOONLIJKE MOTIVATIE\nOVER JASMIJN KOELINK\n\nJasmijn Koelink is organisatiepsycholoog\, ademcoach en yoga-docent. Ze heeft een jarenlange ervaring met het geven van lessen\, workshops en retreats en leidt daarnaast een yoga docentenopleiding. \nHet verbeteren van ieders welzijn en welbevinden\, daar draait het om voor Jasmijn. “Per definitie is wat je voor jezelf doet ook voor anderen. Ik begeleid je graag om wakker te blijven naar jezelf\, naar de ander en in de wereld.” De sessies van Jasmijn zijn adem georiënteerd\, diepgaand en ontspannend tegelijkertijd.
URL:https://jasmijnkoelink.com/programma/vind-jezelf-in-je-ademkracht/
CATEGORIES:Agenda,retraites
ATTACH;FMTTYPE=image/png:https://jasmijnkoelink.com/wp-content/uploads/2022/11/Scherm­afbeelding-2022-11-28-om-11.23.36.png
END:VEVENT
END:VCALENDAR