BEGIN:VCALENDAR
VERSION:2.0
PRODID:-//Jasmijn Koelink - ECPv6.15.14//NONSGML v1.0//EN
CALSCALE:GREGORIAN
METHOD:PUBLISH
X-ORIGINAL-URL:https://jasmijnkoelink.com
X-WR-CALDESC:Evenementen voor Jasmijn Koelink
REFRESH-INTERVAL;VALUE=DURATION:PT1H
X-Robots-Tag:noindex
X-PUBLISHED-TTL:PT1H
BEGIN:VTIMEZONE
TZID:UTC
BEGIN:STANDARD
TZOFFSETFROM:+0000
TZOFFSETTO:+0000
TZNAME:UTC
DTSTART:20220101T000000
END:STANDARD
END:VTIMEZONE
BEGIN:VEVENT
DTSTART;VALUE=DATE:20230120
DTEND;VALUE=DATE:20230710
DTSTAMP:20260424T003725
CREATED:20220713T191959Z
LAST-MODIFIED:20220713T191959Z
UID:7607-1674172800-1688947199@jasmijnkoelink.com
SUMMARY:Yoga Moves Vinyasa Teacher Training (200h)
DESCRIPTION:Become a professional yoga teacher (RYT 200 hours)\nAs a beginning yoga teacher\, the first step is to enable you to share the gifts of yoga to a broad range of people. We focus on giving you a solid foundation and help you master the fundamentals. As a more experienced teacher\, you look for depth and creativity\, new ways to reach more people. Let us help you get there. We invite you to join one of our professional training programs. We hope it will mark the beginning (or continuation) of a successful career as a yoga teacher. \nYoga Moves Teacher Training Programs\nThe Yoga Moves Teacher Training Program consists of a Foundational Vinyasa Teacher Training (200 hrs). Since the start of our training school in 2001\, Yoga Moves has successfully trained hundreds of alumni\, some have become the most well-known yogis in The Netherlands. Make a difference in other people’s lives! \n\n\nYoga Moves Vinyasa Teacher Training (RYT 200 hours)\nDo what you love! Deepen your practice. And learn how to teach.\nMaster the fundamentals\, broaden your understanding of yoga\, help you to find your voice\, your confidence and learn how to share your love of yoga! Completing our program will mark the beginning of your new life as a skilled and inspired yoga teacher. \nFrom day one we will guide you in deepening your practice and honing your skills to become a confident and empowering teacher. Become a source of inspiration begins with your own personal yoga practice\, both on and off the mat. Yoga is not just physical gymnastics\, but a practice of the heart\, mind and spirit. Be prepared to push your mental and physical boundaries through this journey. \nWe offer the Vinyasa Teacher Training (200 hours) in 2 formats. Both programs have the same curriculum and hours of training: \n\nLong Weekend Program starting 20 January 2023\nIntensive Summer Training – starts July 2023 in The Hague\n\nReady to jump in and go on a journey with us?  \n \n  \nJoin this training in Yoga Moves Fly Studio in Utrecht. We offer this training over 8 long weekends from January to July. \nTimes: each day from 11.30 – 18.30. You will have a food break around 14.30/15.00 each afternoon. \nDATES TENTATIVE \n20-22 January 2023 \n10-12 February 2023 \n10-12 March 2023 \n7-9 April 2023 \n21-23 April 2023 \n19-21 May 2023 \n9-11 June 2023 \n7-9 July 2023 \nWe will be adding a few more online sessions. \nOur training will continue as a professional training using online or blended learning even if/during covid restrictions. \n  \nMORE INFORMATION ABOUT THIS TRAINING & REGISTRATION
URL:https://jasmijnkoelink.com/programma/yoga-moves-vinyasa-teacher-training-200h/
LOCATION:Yoga Moves\, St. Janshovenstraat 1\, Utrecht\, Netherlands
CATEGORIES:Agenda,trainingen,Utrecht,Yoga Moves
ATTACH;FMTTYPE=image/png:https://jasmijnkoelink.com/wp-content/uploads/2017/10/Schermafbeelding-2021-11-08-om-12.03.38.png
END:VEVENT
BEGIN:VEVENT
DTSTART;VALUE=DATE:20230317
DTEND;VALUE=DATE:20230918
DTSTAMP:20260424T003725
CREATED:20230202T142651Z
LAST-MODIFIED:20230202T142651Z
UID:7734-1679011200-1694995199@jasmijnkoelink.com
SUMMARY:Yoga Moves Vinyasa Teacher Training (200h) Den Haag
DESCRIPTION:Become a professional yoga teacher (RYT 200 hours)\nAs a beginning yoga teacher\, the first step is to enable you to share the gifts of yoga to a broad range of people. We focus on giving you a solid foundation and help you master the fundamentals. As a more experienced teacher\, you look for depth and creativity\, new ways to reach more people. Let us help you get there. We invite you to join one of our professional training programs. We hope it will mark the beginning (or continuation) of a successful career as a yoga teacher. \nYoga Moves Teacher Training Programs\nThe Yoga Moves Teacher Training Program consists of a Foundational Vinyasa Teacher Training (200 hrs). Since the start of our training school in 2001\, Yoga Moves has successfully trained hundreds of alumni\, some have become the most well-known yogis in The Netherlands. Make a difference in other people’s lives! \n\n\nYoga Moves Vinyasa Teacher Training (RYT 200 hours)\nDo what you love! Deepen your practice. And learn how to teach.\nMaster the fundamentals\, broaden your understanding of yoga\, help you to find your voice\, your confidence and learn how to share your love of yoga! Completing our program will mark the beginning of your new life as a skilled and inspired yoga teacher. \nFrom day one we will guide you in deepening your practice and honing your skills to become a confident and empowering teacher. Become a source of inspiration begins with your own personal yoga practice\, both on and off the mat. Yoga is not just physical gymnastics\, but a practice of the heart\, mind and spirit. Be prepared to push your mental and physical boundaries through this journey. \nWe offer the Vinyasa Teacher Training (200 hours) in 2 formats. Both programs have the same curriculum and hours of training: \n\nLong Weekend Program starting 20 January 2023\nLong Weekend Program The Hague starts 17 March 2023 at Yoga Seads\n\nReady to jump in and go on a journey with us?  \n \n  \nJoin this training at Yoga Seads in The Hague. We offer this training over 7 long weekends from March to September. \nTimes: each day from 11.30 – 18.30. You will have a food break around 14.30/15.00 each afternoon. \nDATES \n17-19 March 2023\n31 March-2 April\n14-16 April\n2-4 June\n30 June-2 July\n7-9 July\n18-20 August\n8-10 Sept\n15-17 Sept \nDATES ONLINE SESSION (live) (these dates subject to some changes) \nTuesday. 28 March 2023 19-20h\nThursday\, 6 April 19-21h\nThursday\, 4 May 19-21h\nTuesday\, 16 May 19-20h\nThursday\, 13 July 19-21h\nThursday\, 10 August 19-21h\nThursday\, 31 August 19-21h \n\nPrimary Trainers in this program: \nJasmijn Koelink & Philine Nugteren (and others!) \nPrice | Sign in early for a discount! \nEarly Bird  €2965 | application in by 15 January 2023 \nRegular  €3140 (after 15 Jan) \nPay in 8 equal installments €3300 (must have a min of €1200 paid by the start of the program) \n(vat included in prices above) \nIncluded in program:\nYoga Moves Training manuals\, all training dates\, evaluations during the course dates\, online learning modules\, observing in YM classes for free\, mentoring personal sessions with the trainers\, On-Demand classes during the course\, perks & student discounts from Yoga Moves for classes\, and shop/props. \nExcluded: Cost of books (approx €100)\, travel\, lunch & extra classes (vinyasa or alignment based) you may need to take in a studio & with senior teachers (min approx 8-12). \nApply early\, spots are limited. \nMORE INFORMATION ABOUT THIS TRAINING & REGISTRATION
URL:https://jasmijnkoelink.com/programma/yoga-moves-vinyasa-teacher-training-200h-den-haag/
LOCATION:Yoga Moves\, St. Janshovenstraat 1\, Utrecht\, Netherlands
CATEGORIES:Agenda,trainingen,Utrecht,Yoga Moves
ATTACH;FMTTYPE=image/png:https://jasmijnkoelink.com/wp-content/uploads/2017/10/Schermafbeelding-2021-11-08-om-12.03.38.png
END:VEVENT
BEGIN:VEVENT
DTSTART;VALUE=DATE:20230326
DTEND;VALUE=DATE:20230327
DTSTAMP:20260424T003725
CREATED:20230214T142613Z
LAST-MODIFIED:20230323T102030Z
UID:7756-1679788800-1679875199@jasmijnkoelink.com
SUMMARY:Vind jezelf in je ademkracht - VOL
DESCRIPTION:ADEMWORKSHOP OP BUITENPLAATS DE HOORNEBOEG \nAdemhalen – je bent er vast niet vaak bewust mee bezig. Wat als je er wel bij stil zou staan? En wat levert het je op als je je ademhaling zou verbeteren? Daarover gaat deze workshop. Over ontspannen\, energie vrijmaken\, over ruimte maken\, over in contact zijn met je lichaam en kalm zijn in je hoofd. En misschien zelfs wel je neiging tot controle ietsjes loslaten. \nDe hele dag blijft je ademhaling de leidraad – zo wordt je geleidelijk aan steeds meer vertrouwd met dit anker in jezelf\, dat er hoe dan ook altijd is\, en de wijsheid die het je kan geven. \n❆ Zondag 26 maart van 10:00 tot 17:00 uur\n❆ Deelname kost € 175\,- incl. koffie/thee\, lunch en iets lekkers\n❆ Deze workshop is in In de Luwte op buitenplaats de Hoorneboeg (Hilversum) \n \nHOE ZIET DE DAG ERUIT?\n\nTussen 9.30 en 10.00 ben je welkom en is er tijd voor een kop thee of koffie met iets lekkers erbij. Je hebt de tijd om de plek te leren kennen en alvast de groep en de trainer te ontmoeten. Je wordt deze dag professioneel begeleid door Jasmijn Koelink. \nAdemwerk gaat in de eerste plaats over bewustwording. Na een welkom en eerste introductie over wat ademhaling voor je kan doen\, oefen je in de ochtend verschillende ademtechnieken die je verbinden met dat wat onbewust in jou aanwezig is. Zo kom je steeds dichterbij dat wat in jou leeft – soms zacht en subtiel\, soms juist heel helder een zeer aanwezig – alles wat zich voordoet is even waardevol om te ontdekken. \nTussen de middag verzorgt restaurant Bij de Tuinman een heerlijke\, vegetarische lunch. Ook heb je de tijd om even lekker naar buiten te gaan. Een rondje door het bos of over de heide… altijd fijn. \nNa de lunch verdiepen we de dag\, bijvoorbeeld door nog wat meer achtergronden te vertellen en je te laten ervaren hoe behulpzaam bewegen is bij het loslaten van spanning. De ademhaling blijft steeds de leidraad – en zo wordt je geleidelijk aan steeds meer vertrouwd met dit anker in jezelf\, dat er hoe dan ook altijd is\, en de wijsheid die het je kan geven. Rond 17:00 uur ronden we de dag af\, nadat we ook de tijd hebben genomen om ervaringen van deze dag met elkaar te delen. \nRIJK AAN ERVARING – STEEDS MET EEN DIEPE EN PERSOONLIJKE MOTIVATIE\nOVER JASMIJN KOELINK\n\nJasmijn Koelink is organisatiepsycholoog\, ademcoach en yoga-docent. Ze heeft een jarenlange ervaring met het geven van lessen\, workshops en retreats en leidt daarnaast een yoga docentenopleiding. \nHet verbeteren van ieders welzijn en welbevinden\, daar draait het om voor Jasmijn. “Per definitie is wat je voor jezelf doet ook voor anderen. Ik begeleid je graag om wakker te blijven naar jezelf\, naar de ander en in de wereld.” De sessies van Jasmijn zijn adem georiënteerd\, diepgaand en ontspannend tegelijkertijd.
URL:https://jasmijnkoelink.com/programma/vind-jezelf-in-je-ademkracht-2/
CATEGORIES:Agenda,retraites
ATTACH;FMTTYPE=image/png:https://jasmijnkoelink.com/wp-content/uploads/2022/11/Scherm­afbeelding-2022-11-28-om-11.23.36.png
END:VEVENT
END:VCALENDAR