BEGIN:VCALENDAR
VERSION:2.0
PRODID:-//Jasmijn Koelink - ECPv6.15.14//NONSGML v1.0//EN
CALSCALE:GREGORIAN
METHOD:PUBLISH
X-ORIGINAL-URL:https://jasmijnkoelink.com
X-WR-CALDESC:Evenementen voor Jasmijn Koelink
REFRESH-INTERVAL;VALUE=DURATION:PT1H
X-Robots-Tag:noindex
X-PUBLISHED-TTL:PT1H
BEGIN:VTIMEZONE
TZID:UTC
BEGIN:STANDARD
TZOFFSETFROM:+0000
TZOFFSETTO:+0000
TZNAME:UTC
DTSTART:20200101T000000
END:STANDARD
END:VTIMEZONE
BEGIN:VEVENT
DTSTART;VALUE=DATE:20211010
DTEND;VALUE=DATE:20211011
DTSTAMP:20260420T154006
CREATED:20210403T133046Z
LAST-MODIFIED:20210512T074200Z
UID:7376-1633824000-1633910399@jasmijnkoelink.com
SUMMARY:Massage Workshop with Tennisballs
DESCRIPTION:Special Yin Yoga Workshop Using Tennis Balls To Release Tension in your body\nWITH JASMIJN KOELINK\n10 OCTOBER 2021 from 2-5 PM at Yoga Moves\n\nDe-stress\, Recover and Relax\nIn this workshop\, you’ll experience the effect of Yin-related Yoga on your body in a long session – using a tennis ball. This will give you some insights and techniques to help you to become more flexible and you’ll learn to release tension and pain. It can also free emotional energy stored in the body. By using tennis balls\, relaxing becomes much easier than one might think. Anyone can do it! Afterward\, you’ll notice a smoother and more stable yoga practice. \nFirst\, we will relax and de-stress hips\, buttocks\, pelvis and parts of the legs\, followed by softening the back and shoulders. This will also stimulate and massage the organs. We’ll seal the workshop with a longer relaxing posture to allow the effect to sink in deeply in. \nWe integrate and explore some breathing techniques\, adding extra pleasure and relaxation to this form of Yin Yoga. After this workshop\, you’ll be able to apply the technique of deep tissue relaxation (or deep tissue release) easily at home. Experience the healing power generated by this practice and give yourself some time to experience the deep relaxation in your body. Afterward\, you feel more energetic and your movements more supple. \nThis workshop is open to everyone. Also for pregnant women\, with some adjustments. \nSIGN UP & MORE INFORMATION\nDate Sunday 10 October | 14.00-17.00 \nLocation ONE | St. Janshovenstraat 1 | Utrecht \n\n\nPrice €39 per session | €32\,50 for infinity/student/u-pas members\n\n\n\n\n\n\n\nYin Yoga special workshop with Jasmijn Koelink using a tennis ball to release tension in your body and to give yourself a massage
URL:https://jasmijnkoelink.com/programma/massage-workshop-with-tennisballs-2/
LOCATION:Yoga Moves\, St. Janshovenstraat 1\, Utrecht\, Netherlands
CATEGORIES:Agenda,retraites,Utrecht,Workshop,Workshops & Weekends,Yoga Moves
ATTACH;FMTTYPE=image/jpeg:https://jasmijnkoelink.com/wp-content/uploads/2018/03/Yin-yoga-special-met-tennisbal.jpg
END:VEVENT
BEGIN:VEVENT
DTSTART;VALUE=DATE:20211018
DTEND;VALUE=DATE:20211023
DTSTAMP:20260420T154006
CREATED:20210406T091627Z
LAST-MODIFIED:20211020T190941Z
UID:7389-1634515200-1634947199@jasmijnkoelink.com
SUMMARY:Adem & Stilteretraite (VOL)
DESCRIPTION:Neem een mini-vakantie in jezelf. Kom tot rust tijdens deze ontspannende stilteretraite onder begeleiding van Jasmijn Koelink.\nBewust ademhalen is één van de meest krachtige -en bewezen- manieren om stress te verminderen. Ook om weer op adem te komen\, je veerkrachtiger te voelen\, beter te slapen\, je langer te concentreren en meer levenslust te ervaren. Tijdens deze ontspannende stilteretraite met yogadocent en ademcoach Jasmijn Koelink kom je helemaal tot rust en maak je kennis met directe methodes om je beter te voelen én je levenskrachtig te blijven voelen thuis. \nIk schrijf me in voor deze 5 daagse.\n  \nDagschema:\nElke dag bestaat uit een meditatieve ochtendwandeling\, twee gezamenlijke adem- en ontspanningssessies\, geleide uitwisselingen en een optionele avondsessie. In de middag en avond is er volop ruimte om de uitwerkingen van je ademwerk en de stilte te ervaren\, te lezen\, genieten van de kloostertuin\, te wandelen of te rusten. Het dagschema is zo opgebouwd\, dat je desgewenst de diensten van het Klooster kunt bijwonen. \n  \nMaandag 18 oktober:\n17:00 welkom en ontspanningssessie \n18:30 avondmaal \n20:30 – 21:00 yoga nidra (geleide bodyscan) \n21:00 vrije avond \n  \nDinsdag 19 t/m donderdag 21 oktober:\n8:30 ontbijt \n9:30 meditatieve ochtenwandeling \n10:00 – 12:00 adem- en ontspanningssessie \n12:30 lunch + vrije tijd \n16:00 – 17:30 adem- en ontspanningssessie \n17:30 avondmaal \n19:30 (optioneel op donderdag) The Work sessie – introductie \n20:00 – 20:30 yoga nidra (geleide bodyscan) \n20:30 vrije avond \n  \nVrijdag 22 oktober:\n8:30 ontbijt \n9:15 meditatieve ochtenwandeling \n10:00 – 11:15 eucharistie (optioneel) of vrije tijd \n11:30-12:30 afsluitende sessie \n12:30 lunch en einde programma \n  \nTijdens deze retraite is er een eenmalige (en optionele) sessie over The Work van Byron Katie. Deze methode van zelfbevraging is inmiddels een onmisbaar onderdeel van Jasmijn’s leven. Tijdens deze sessie kun je ermee kennismaken. \n  \nErvaringen van eerdere deelnemers aan programma’s met Jasmijn:\n‘De elementen van de retraite zijn praktisch toepasbaar\, goede tips voor mijn dagelijks leven. Ik heb zin om aan de slag te gaan. Ik voel me zo veel beter in mijn vel.’ \n‘Jasmijn heeft een rustige\, fijne stem. Heel deskundig en zorgzaam in haar aanpak.’  \n‘Het programma is een geweldige ervaring\, zoveel nieuwe technieken geleerd. Meer dan ik verwacht had!’ \n‘Jasmijn biedt rust\, volledige aandacht en vriendelijkheid. Ze pakt alles begripvol op.’  \n‘Jasmijn is aanstekelijk enthousiast\, duidelijk in aanwijzingen\, ondersteunend en belangstellend.’ \n‘Lief\, duidelijk\, zeer kundig\, toegankelijk\, rustig – en ze ziet alles!’ \n ‘De adem- en ontspanningssessies zijn heerlijk\, duidelijk\, krachtig\, zacht\, divers en de instructies helder. Ik voel me gezien. Ik had niet gedacht dat ontspannen zo makkelijk zou zijn.’ \n‘Ik ga helemaal ontspannen en opgeladen naar huis. Ik heb meer inzicht en verdieping over mijn ademhaling en bewustwording hoe hiermee om te gaan.’ \n  \nVoel je je opgejaagd\, vermoeid of ervaar je dagelijkse stress? Zoek je tijd om eindelijk op adem te komen? Of verlang je naar rust en stilte? Dan is deze verstilde en adem bevrijdende retraite iets voor jou – het verdiept direct je welzijn!\nStilte is één van de hoofdingrediënten van dit programma. Stilte is een waardevol instrument -net als je adem- om meer te zien\, horen en te voelen dan in je ‘normale’ leven. Van donderdagochtend tot zaterdagavond verblijf je in stilte. (Tijdens de gezamenlijke sessies zijn er wel mogelijkheden om te praten). \nAdem en stressvermindering\nEén op de drie mensen heeft – in meer of mindere mate – last van stress. Verschijnselen van stress zijn bijvoorbeeld ernstige vermoeidheid\, gespannenheid of nervositeit. Op zich is stress een normaal verschijnsel\, iets wat je als een elastiek oprekt\, waarna je weer terugveert\, keer op keer. Maar als stress de overhand neemt dan raakt de rek uit je elastiek. \nTijdens deze retraite leer je meer over het verschil tussen gezonde en ongezonde stress. Je leert stress herkennen in je lichaam. Ademcoach Jasmijn Koelink laat je kennismaken met de meest effectieve en bewezen ademhalingstechnieken die je welzijn vergroten. Daarnaast zijn de tools concreet\, zodat je kunt ingrijpen voordat stress de overhand neemt. Alle technieken zijn direct toe te passen in je dagelijks leven. \nErvaar de kracht van je adem om je direct beter te voelen. De oefeningen zijn gemakkelijk en dus laagdrempelig. Iedereen kan het. Velen zijn voorgegaan en aangenaam verrast over het directe resultaat. Bovendien kent de juiste manier van ademhalen geen nadelige bijwerkingen – alleen maar voordelen. \nJe adem is het meest toegankelijke instrument dat je altijd tot je beschikking hebt\, het vraagt slechts jouw aandacht. Wordt na deze vijfdaagse een actieve deelnemer van je ademhaling en voel je in enkele minuten beter. \n  \nInschrijving en meer informatie over tarieven\, locatie en programma.\n  \nOver Jasmijn Koelink\nYogadocent Jasmijn Koelink is een Yoga Alliance® erkende docent. Haar lesstijl is geschikt voor zowel beginners als ervaren yogabeoefenaars\, omdat Jasmijn verschillende opties en individuele begeleiding integreert in haar lessen. Alle sessies zijn adem georiënteerd\, diepgaand en ontspannend tegelijkertijd. Ze geeft al jaren wekelijkse lessen en leidt een van de meest gerenommeerde yoga docentenopleidingen in Nederland. Ze biedt online sessies en gespecialiseerde workshops aan\, zodat je op elk moment en elke tijd gebruikt kunt maken van haar begeleiding. Op JasmijnKoelink.com kun je direct beginnen. \n  \n \n 
URL:https://jasmijnkoelink.com/programma/adem-stilteretraite-2/
LOCATION:Dominicanenklooster Huissen\, Stadsdam 1\, Huissen
CATEGORIES:Huissen,retraites
ATTACH;FMTTYPE=image/jpeg:https://jasmijnkoelink.com/wp-content/uploads/2017/10/ademdag-2-klooster-mei-2018-met-Jasmijn-Koelink-crop.jpg
END:VEVENT
BEGIN:VEVENT
DTSTART;VALUE=DATE:20211029
DTEND;VALUE=DATE:20211101
DTSTAMP:20260420T154006
CREATED:20210201T112331Z
LAST-MODIFIED:20211020T191034Z
UID:7231-1635465600-1635724799@jasmijnkoelink.com
SUMMARY:Yogaweekend Aan de Hei (VOL)
DESCRIPTION:Yogaweekend ism Happy Soul Travel \nop de Hoorneboeg\nHet programma\nOnze yogaweekenden starten altijd op vrijdagmiddag rond 17:00 uur met een korte introductie. Aansluitend volgt het diner in de stijlvolle woonkamer met haardkachel en grote ramen uitkijkend op de tuin en het bos. Na het diner volgt een meer uitgebreide kennismaking met de groep en een eerste yogales. Op zaterdag starten we met een meer dynamische yogales gevolgd door een uitgebreide brunch. Ook hierna is er weer voldoende me-time om zelf in te vullen\, je kunt bijvoorbeeld lekker de natuur in gaan of gebruik maken van de sauna of een massage ondergaan. In de middag is er nog een healthy snack en een meer verstilde yogales\, gevolgd door het diner. Op zondag hebben we weer een heerlijke yogales en een lekkere brunch. Daarna heb je nog ruim tijd voor een wandeling\, massage of op een andere manier ontspannen. We eindigen met een laatste meditatie ’s middags en een afsluitende ronde. \nLet op: Alle lessen worden in het Nederlands of Engels gegeven afhankelijk van de teacher en deelnemers. Alle teachers spreken Nederlands\, dus vragen kun je altijd in het Nederlands stellen. Globaal is het programma als hierboven maar dit kan een beetje afwijken per weekend. \n\nYogaweekend met Jasmijn: Total Stress Release\n\nJasmijn Koelink is yogadocent\, ademcoach en sociaal psychologe. Haar lesstijl kenmerkt zich door de uitgesproken aandacht op adem en lichaamsbewustzijn. \nTijdens dit weekend kom je letterlijk op adem\, aangezien bewuste ademhaling één van de meest krachtige -en bewezen- manieren is om stress te verminderen. En één op de drie mensen heeft – in meer of mindere mate – stress-symptomen zoals ernstige vermoeidheid\, gespannenheid of nervositeit. Jasmijn begeleidt je door verschillende ademhalingsoefeningen om je adem te vertragen\, verlengen of reguleren. Waardoor je je direct beter voelt. \nErvaar zelf de kracht van je adem en yoga tijdens dit ontspannende weekend. Alle sessies zijn adem georiënteerd\, diepgaand en ontspannend tegelijkertijd. In de combinatie van toegankelijke Vinyasa en Yin Yoga\, ademhalingsoefeningen en meditatie leer je concrete tools om stress te herkennen in je lichaam en te verminderen. Hierdoor grijp je in voordat het de overhand neemt. Deze technieken kun je direct toepassen in je dagelijks leven. \nDit weekend is geschikt voor zowel beginners en gevorderden\, want Jasmijn integreert verschillende opties en individuele begeleiding in haar lesstijl. Naast de sessies is er voldoende ruimte om te lezen\, te genieten van de omgeving\, een wandeling over de hei of te rusten. \n\n \n  \n\nSchrijf je nu in voor een heerlijk weekend: kom op adem! En adem jezelf stress vrij.\n\nJe kunt je inschrijven via de website van Happy Soul Travel. Daar vind je ook meer informatie over o.a. prijzen en kamertypen.\n  \n  \n  \n  \n  \n  \n  \n  \n  \n 
URL:https://jasmijnkoelink.com/programma/yogaweekend-hoorneboeg-3/
CATEGORIES:Agenda,retraites
ATTACH;FMTTYPE=image/jpeg:https://jasmijnkoelink.com/wp-content/uploads/2019/11/weekend-Geertje-Couwenbergh-en-Jasmijn-Koelink.jpg
END:VEVENT
END:VCALENDAR