BEGIN:VCALENDAR
VERSION:2.0
PRODID:-//Jasmijn Koelink - ECPv6.15.14//NONSGML v1.0//EN
CALSCALE:GREGORIAN
METHOD:PUBLISH
X-WR-CALNAME:Jasmijn Koelink
X-ORIGINAL-URL:https://jasmijnkoelink.com
X-WR-CALDESC:Evenementen voor Jasmijn Koelink
REFRESH-INTERVAL;VALUE=DURATION:PT1H
X-Robots-Tag:noindex
X-PUBLISHED-TTL:PT1H
BEGIN:VTIMEZONE
TZID:UTC
BEGIN:STANDARD
TZOFFSETFROM:+0000
TZOFFSETTO:+0000
TZNAME:UTC
DTSTART:20230101T000000
END:STANDARD
END:VTIMEZONE
BEGIN:VEVENT
DTSTART;VALUE=DATE:20240203
DTEND;VALUE=DATE:20240204
DTSTAMP:20260419T194517
CREATED:20231207T151249Z
LAST-MODIFIED:20231207T151249Z
UID:7858-1706918400-1707004799@jasmijnkoelink.com
SUMMARY:Breath workshop
DESCRIPTION:WORKSHOP TRANSFORMING STRESS: THE POWER OF YOUR BREATH\n3 February 2024 4-6 PM at Yoga Moves Utrecht\n\n\n\n\n\n\n\n\n\n\nYour breath is the most accessible instrument you always have at your disposal. \nDuring this workshop\, you will learn different breathing techniques to reduce stress. \nBreathing coach Jasmijn Koelink gives you concrete tools so that you can intervene before stress takes over. All techniques can be directly applied in your daily life. \nExperience the power of your breath to feel better immediately. The exercises during this workshop are easy and therefore accessible. \nEveryone can do it. \nMany people have gone before and were pleasantly surprised by the immediate results. \n“I’ve tried various stress-management methods in the past\, but nothing has worked as quickly and effectively as Jasmijn’s breathing techniques. I now use them regularly in my daily life and have noticed a significant improvement in my overall well-being.” – John \n“Jasmijn’s workshop was an eye-opener for me. I never realized how powerful our breath can be in reducing stress until I experienced it firsthand. I highly recommend this workshop to anyone looking for practical ways to manage their stress levels.” – Emily \nFurthermore\, proper breathing has no adverse side effects or increased risk of injury – only benefits. \n\n\n\n\n\n\nWho is this for?\nBeginner yogis / Intermediate yogis\nYou are welcome even if you were never at Yoga Moves before! \n\n\n\n\n\n\n\n\n\nSIGN UP OR MORE INFORMATION \nDate & Time: Saturday\, 3 February 2024 | 16.00-18.00\nLocation: Studio Hot |  Jan van Scorelstraat 41 | Utrecht\nPrice: €29 | 25% off for Infinity & Balance Members
URL:https://jasmijnkoelink.com/programma/breath-workshop-2/
LOCATION:Yoga Moves\, St. Janshovenstraat 1\, Utrecht\, Netherlands
CATEGORIES:Agenda,Utrecht,Workshop,Workshops & Weekends,Yoga Moves
ATTACH;FMTTYPE=image/jpeg:https://jasmijnkoelink.com/wp-content/uploads/2018/03/Yin-yoga-special-met-tennisbal.jpg
END:VEVENT
END:VCALENDAR