BEGIN:VCALENDAR
VERSION:2.0
PRODID:-//Jasmijn Koelink - ECPv6.15.14//NONSGML v1.0//EN
CALSCALE:GREGORIAN
METHOD:PUBLISH
X-ORIGINAL-URL:https://jasmijnkoelink.com
X-WR-CALDESC:Evenementen voor Jasmijn Koelink
REFRESH-INTERVAL;VALUE=DURATION:PT1H
X-Robots-Tag:noindex
X-PUBLISHED-TTL:PT1H
BEGIN:VTIMEZONE
TZID:UTC
BEGIN:STANDARD
TZOFFSETFROM:+0000
TZOFFSETTO:+0000
TZNAME:UTC
DTSTART:20190101T000000
END:STANDARD
END:VTIMEZONE
BEGIN:VEVENT
DTSTART;VALUE=DATE:20200725
DTEND;VALUE=DATE:20201213
DTSTAMP:20260425T230318
CREATED:20191107T105018Z
LAST-MODIFIED:20200829T104134Z
UID:6406-1595635200-1607817599@jasmijnkoelink.com
SUMMARY:Yoga Moves Teacher Training (200h)
DESCRIPTION:Become a professional yoga teacher (RYT 200h) SUMMER INTENSIVE\nAs a beginning yoga teacher\, the first step is to enable you to share the gifts of yoga to a broad range of people. We focus on giving you a solid foundation and help you master the fundamentals. As a more experienced teacher\, you look for depth and creativity\, new ways to reach more people. Let us help you get there. We invite you to join one of our professional training programs. We hope it will mark the beginning (or continuation) of a successful career as a yoga teacher. \nYoga Moves Teacher Training Programs\nThe Yoga Moves Teacher Training Program consists of a Foundational Vinyasa Teacher Training (200 hrs). Since the start of our training school in 2001\, Yoga Moves has successfully trained hundreds of alumni\, some have become the most well-known yogis in The Netherlands. Make a difference in other people’s lives! \n\n\nYoga Moves Vinyasa Teacher Training (RYT 200h)\nDo what you love! Deepen your practice. And learn how to teach.\nMaster the fundamentals\, broaden your understanding of yoga\, help you to find your voice\, your confidence and learn how to share your love of yoga! Completing our program will mark the beginning of your new life as a skilled and inspired yoga teacher. \nFrom day one we will guide you in deepening your practice and honing your skills to become a confident and empowering teacher. Become a source of inspiration begins with your own personal yoga practice\, both on and off the mat. Yoga is not just physical gymnastics\, but a practice of the heart\, mind and spirit. Be prepared to push your mental and physical boundaries through this journey. \nWe offer the Vinyasa Teacher Training (200 hours) in 2 formats. Both programs have the same curriculum and hours of training: \n\nIntensive Summer Training – starts 25 July 2020 in The Hague\nLong Weekend Program starting 17 January 2020\n\nReady to jump in and go on a journey with us?  \n \nDates Long Program 2020 \nWe go from either 9.00-17.00\n(Occasionally 10.30-18.30). We offer it on 3-day weekends in Utrecht; Friday- Sunday. \n\n17-19 January\n28\, 29 Feb & 1 March\n7-8 March (two days)\n27-29 March\n24-26 April\n22-24 May\n12-14 June\n26-28 June\n\nDates Summer/Fall Program 2020 in The Hague:\nTimes will be 11.00-19.00 \n\n25-31 July (7 days)\n22-28 August (7 days)\n26-27 September\n16-18 October\n20-22 November\n11-12 December\n\nMORE INFO OR SIGN UP
URL:https://jasmijnkoelink.com/programma/yoga-moves-teacher-training-200h/
LOCATION:Yoga Moves\, St. Janshovenstraat 1\, Utrecht\, Netherlands
CATEGORIES:Agenda,trainingen,Yoga Moves
ATTACH;FMTTYPE=image/jpeg:https://jasmijnkoelink.com/wp-content/uploads/2018/07/YM-TT-SUMMER-FLYER.jpg
END:VEVENT
BEGIN:VEVENT
DTSTART;TZID=UTC:20200907T203000
DTEND;TZID=UTC:20200907T214500
DTSTAMP:20260425T230318
CREATED:20161127T120158Z
LAST-MODIFIED:20190516T193114Z
UID:3909-1599510600-1599515100@jasmijnkoelink.com
SUMMARY:Slow Flow - Yoga Moves Utrecht
DESCRIPTION:Breath-oriented\, intense and relaxing at the same time.\nJoin my slow flow classes at Yoga Moves. \nDuring Slow Flow\, you spend more time both within and between poses. As a result\, you combine activity with relaxation -and class takes on a more meditative character. The foundation of this style is a gentle vinyasa (breath initiated movement) filled with relaxing and restorative poses where you rest for longer periods of time. Slow Flow brings balance. This makes it suitable if you are very active – or tired. \n\n\n\nJasmijn has an eye for detail. She combines the flow in her classes with accuracy and adjustments for her students. Jasmijn is a kind of teacher whose personal care isn’t limited to class.\n\nErik Bouwens
URL:https://jasmijnkoelink.com/programma/slow-flow-2020-09-07/
LOCATION:Yoga Moves\, St. Janshovenstraat 1\, Utrecht\, Netherlands
CATEGORIES:Les,Utrecht,Yoga Moves
ATTACH;FMTTYPE=image/jpeg:https://jasmijnkoelink.com/wp-content/uploads/2016/11/yogastijlen.jpg
END:VEVENT
BEGIN:VEVENT
DTSTART;TZID=UTC:20200914T203000
DTEND;TZID=UTC:20200914T214500
DTSTAMP:20260425T230318
CREATED:20161127T120158Z
LAST-MODIFIED:20190516T193114Z
UID:3910-1600115400-1600119900@jasmijnkoelink.com
SUMMARY:Slow Flow - Yoga Moves Utrecht
DESCRIPTION:Breath-oriented\, intense and relaxing at the same time.\nJoin my slow flow classes at Yoga Moves. \nDuring Slow Flow\, you spend more time both within and between poses. As a result\, you combine activity with relaxation -and class takes on a more meditative character. The foundation of this style is a gentle vinyasa (breath initiated movement) filled with relaxing and restorative poses where you rest for longer periods of time. Slow Flow brings balance. This makes it suitable if you are very active – or tired. \n\n\n\nJasmijn has an eye for detail. She combines the flow in her classes with accuracy and adjustments for her students. Jasmijn is a kind of teacher whose personal care isn’t limited to class.\n\nErik Bouwens
URL:https://jasmijnkoelink.com/programma/slow-flow-2020-09-14/
LOCATION:Yoga Moves\, St. Janshovenstraat 1\, Utrecht\, Netherlands
CATEGORIES:Les,Utrecht,Yoga Moves
ATTACH;FMTTYPE=image/jpeg:https://jasmijnkoelink.com/wp-content/uploads/2016/11/yogastijlen.jpg
END:VEVENT
BEGIN:VEVENT
DTSTART;TZID=UTC:20200921T203000
DTEND;TZID=UTC:20200921T214500
DTSTAMP:20260425T230318
CREATED:20161127T120158Z
LAST-MODIFIED:20190516T193113Z
UID:3911-1600720200-1600724700@jasmijnkoelink.com
SUMMARY:Slow Flow - Yoga Moves Utrecht
DESCRIPTION:Breath-oriented\, intense and relaxing at the same time.\nJoin my slow flow classes at Yoga Moves. \nDuring Slow Flow\, you spend more time both within and between poses. As a result\, you combine activity with relaxation -and class takes on a more meditative character. The foundation of this style is a gentle vinyasa (breath initiated movement) filled with relaxing and restorative poses where you rest for longer periods of time. Slow Flow brings balance. This makes it suitable if you are very active – or tired. \n\n\n\nJasmijn has an eye for detail. She combines the flow in her classes with accuracy and adjustments for her students. Jasmijn is a kind of teacher whose personal care isn’t limited to class.\n\nErik Bouwens
URL:https://jasmijnkoelink.com/programma/slow-flow-2020-09-21/
LOCATION:Yoga Moves\, St. Janshovenstraat 1\, Utrecht\, Netherlands
CATEGORIES:Les,Utrecht,Yoga Moves
ATTACH;FMTTYPE=image/jpeg:https://jasmijnkoelink.com/wp-content/uploads/2016/11/yogastijlen.jpg
END:VEVENT
BEGIN:VEVENT
DTSTART;TZID=UTC:20200928T203000
DTEND;TZID=UTC:20200928T214500
DTSTAMP:20260425T230318
CREATED:20161127T120158Z
LAST-MODIFIED:20190516T193113Z
UID:3912-1601325000-1601329500@jasmijnkoelink.com
SUMMARY:Slow Flow - Yoga Moves Utrecht
DESCRIPTION:Breath-oriented\, intense and relaxing at the same time.\nJoin my slow flow classes at Yoga Moves. \nDuring Slow Flow\, you spend more time both within and between poses. As a result\, you combine activity with relaxation -and class takes on a more meditative character. The foundation of this style is a gentle vinyasa (breath initiated movement) filled with relaxing and restorative poses where you rest for longer periods of time. Slow Flow brings balance. This makes it suitable if you are very active – or tired. \n\n\n\nJasmijn has an eye for detail. She combines the flow in her classes with accuracy and adjustments for her students. Jasmijn is a kind of teacher whose personal care isn’t limited to class.\n\nErik Bouwens
URL:https://jasmijnkoelink.com/programma/slow-flow-2020-09-28/
LOCATION:Yoga Moves\, St. Janshovenstraat 1\, Utrecht\, Netherlands
CATEGORIES:Les,Utrecht,Yoga Moves
ATTACH;FMTTYPE=image/jpeg:https://jasmijnkoelink.com/wp-content/uploads/2016/11/yogastijlen.jpg
END:VEVENT
END:VCALENDAR