BEGIN:VCALENDAR
VERSION:2.0
PRODID:-//Jasmijn Koelink - ECPv6.15.14//NONSGML v1.0//EN
CALSCALE:GREGORIAN
METHOD:PUBLISH
X-WR-CALNAME:Jasmijn Koelink
X-ORIGINAL-URL:https://jasmijnkoelink.com
X-WR-CALDESC:Evenementen voor Jasmijn Koelink
REFRESH-INTERVAL;VALUE=DURATION:PT1H
X-Robots-Tag:noindex
X-PUBLISHED-TTL:PT1H
BEGIN:VTIMEZONE
TZID:UTC
BEGIN:STANDARD
TZOFFSETFROM:+0000
TZOFFSETTO:+0000
TZNAME:UTC
DTSTART:20190101T000000
END:STANDARD
END:VTIMEZONE
BEGIN:VEVENT
DTSTART;VALUE=DATE:20200725
DTEND;VALUE=DATE:20201213
DTSTAMP:20260425T142402
CREATED:20191107T105018Z
LAST-MODIFIED:20200829T104134Z
UID:6406-1595635200-1607817599@jasmijnkoelink.com
SUMMARY:Yoga Moves Teacher Training (200h)
DESCRIPTION:Become a professional yoga teacher (RYT 200h) SUMMER INTENSIVE\nAs a beginning yoga teacher\, the first step is to enable you to share the gifts of yoga to a broad range of people. We focus on giving you a solid foundation and help you master the fundamentals. As a more experienced teacher\, you look for depth and creativity\, new ways to reach more people. Let us help you get there. We invite you to join one of our professional training programs. We hope it will mark the beginning (or continuation) of a successful career as a yoga teacher. \nYoga Moves Teacher Training Programs\nThe Yoga Moves Teacher Training Program consists of a Foundational Vinyasa Teacher Training (200 hrs). Since the start of our training school in 2001\, Yoga Moves has successfully trained hundreds of alumni\, some have become the most well-known yogis in The Netherlands. Make a difference in other people’s lives! \n\n\nYoga Moves Vinyasa Teacher Training (RYT 200h)\nDo what you love! Deepen your practice. And learn how to teach.\nMaster the fundamentals\, broaden your understanding of yoga\, help you to find your voice\, your confidence and learn how to share your love of yoga! Completing our program will mark the beginning of your new life as a skilled and inspired yoga teacher. \nFrom day one we will guide you in deepening your practice and honing your skills to become a confident and empowering teacher. Become a source of inspiration begins with your own personal yoga practice\, both on and off the mat. Yoga is not just physical gymnastics\, but a practice of the heart\, mind and spirit. Be prepared to push your mental and physical boundaries through this journey. \nWe offer the Vinyasa Teacher Training (200 hours) in 2 formats. Both programs have the same curriculum and hours of training: \n\nIntensive Summer Training – starts 25 July 2020 in The Hague\nLong Weekend Program starting 17 January 2020\n\nReady to jump in and go on a journey with us?  \n \nDates Long Program 2020 \nWe go from either 9.00-17.00\n(Occasionally 10.30-18.30). We offer it on 3-day weekends in Utrecht; Friday- Sunday. \n\n17-19 January\n28\, 29 Feb & 1 March\n7-8 March (two days)\n27-29 March\n24-26 April\n22-24 May\n12-14 June\n26-28 June\n\nDates Summer/Fall Program 2020 in The Hague:\nTimes will be 11.00-19.00 \n\n25-31 July (7 days)\n22-28 August (7 days)\n26-27 September\n16-18 October\n20-22 November\n11-12 December\n\nMORE INFO OR SIGN UP
URL:https://jasmijnkoelink.com/programma/yoga-moves-teacher-training-200h/
LOCATION:Yoga Moves\, St. Janshovenstraat 1\, Utrecht\, Netherlands
CATEGORIES:Agenda,trainingen,Yoga Moves
ATTACH;FMTTYPE=image/jpeg:https://jasmijnkoelink.com/wp-content/uploads/2018/07/YM-TT-SUMMER-FLYER.jpg
END:VEVENT
BEGIN:VEVENT
DTSTART;VALUE=DATE:20201003
DTEND;VALUE=DATE:20201220
DTSTAMP:20260425T142402
CREATED:20200206T132923Z
LAST-MODIFIED:20200720T062455Z
UID:6675-1601683200-1608422399@jasmijnkoelink.com
SUMMARY:Going Deeper | 8 day course
DESCRIPTION:Open up the doors of yoga\nwith Maszena Stanecka & Jasmijn Koelink\nThis course is hosted by Yoga Moves.\nEnrich your practice and understanding of Yoga and learn how to connect yoga to everyday life questions and issues with our 8-day Going Deeper course for curious\, intermediate and inspired students. \nThis in-depth course will help you determine specific personal approaches that will make your practice fit your life. The focus of this course is on your own practice and understanding. \n\nAre you interested to explore yoga in depth\, outside a teacher training?\nDo you want to learn how to connect yoga to your everyday life questions and issues?\nFine-tune your personal practice?\nExplore the therapeutic aspects of your yoga practice?\n\nThen our Going Deeper course is just the thing for you! \nWhat we will explore\nStart each day with a 2\,5-hour practice & workshop that includes a detailed exploration of both basic and intermediate asanas\, including alignment principles\, energetic actions\, benefits\, preparatory anatomy in relation to movement-oriented yoga. In addition\, we will explore the art of seeing bodies and working with partners. \nExpand | Each day explore a topic integral to yoga\, but not usually covered in day-to-day classes. We will take classic yoga philosophy out of the books onto the mat – and into your life! \nIntegrate | We will also show you how you can understand sequencing and build practices to address personal needs\, such as insomnia\, overwork\, stress\, back problems\, etc. We help you to build practices that fit your life individually. \nRestore | Every day we will include pranayama (breathing) practices and restorative hatha yoga. You will find how healing\, a full spectrum practice can be to your whole being. \nOMwork\n\nWe will offer you reading and listening assignments as (h)om(e)-work. And suggest practice routines you can build at home or in class. You’ll be asked to read some other articles and possibly some books.\nPrice includes course manual. You will be asked to buy 1-3 books and follow classes during the course.\n\n \nSIGN UP HERE! \nMore information about price and teachers have a look here. \n\nDates & Times | Spring 2020 course \n\n\n\n\nSat 3 & Sun 4 October\nSat 17 & Sun 18 October\nSat 21 November\nSat 28 & Sun 29 November\nSat 19 December\n\n\n\nDaily from 12.30-19.00 | You have an hour break. \nPrice €665 | €590 (Early Bird if paid before 15 July) & Infinity member price \nLocation Croeselaan 209-211 Utrecht \nLevel The program is open to curious and dedicated students interested in taking their practice to the next level (minimum of +/- 6 months of regular yoga practice with mixed-level classes). \n 
URL:https://jasmijnkoelink.com/programma/going-deeper-8-day-course-2/
LOCATION:Yoga Moves\, St. Janshovenstraat 1\, Utrecht\, Netherlands
CATEGORIES:Agenda,retraites,Utrecht,Yoga Moves
ATTACH;FMTTYPE=image/jpeg:https://jasmijnkoelink.com/wp-content/uploads/2017/04/adjusting.jpg
END:VEVENT
BEGIN:VEVENT
DTSTART;TZID=UTC:20201207T203000
DTEND;TZID=UTC:20201207T214500
DTSTAMP:20260425T142402
CREATED:20161127T120158Z
LAST-MODIFIED:20190516T193109Z
UID:3922-1607373000-1607377500@jasmijnkoelink.com
SUMMARY:Slow Flow - Yoga Moves Utrecht
DESCRIPTION:Breath-oriented\, intense and relaxing at the same time.\nJoin my slow flow classes at Yoga Moves. \nDuring Slow Flow\, you spend more time both within and between poses. As a result\, you combine activity with relaxation -and class takes on a more meditative character. The foundation of this style is a gentle vinyasa (breath initiated movement) filled with relaxing and restorative poses where you rest for longer periods of time. Slow Flow brings balance. This makes it suitable if you are very active – or tired. \n\n\n\nJasmijn has an eye for detail. She combines the flow in her classes with accuracy and adjustments for her students. Jasmijn is a kind of teacher whose personal care isn’t limited to class.\n\nErik Bouwens
URL:https://jasmijnkoelink.com/programma/slow-flow-2020-12-07/
LOCATION:Yoga Moves\, St. Janshovenstraat 1\, Utrecht\, Netherlands
CATEGORIES:Les,Utrecht,Yoga Moves
ATTACH;FMTTYPE=image/jpeg:https://jasmijnkoelink.com/wp-content/uploads/2016/11/yogastijlen.jpg
END:VEVENT
BEGIN:VEVENT
DTSTART;VALUE=DATE:20201213
DTEND;VALUE=DATE:20201214
DTSTAMP:20260425T142402
CREATED:20200122T103354Z
LAST-MODIFIED:20201207T114441Z
UID:6650-1607817600-1607903999@jasmijnkoelink.com
SUMMARY:Workshop: Massage yourself (pain) free with a Tennis Ball (FULL)
DESCRIPTION:Yin Yoga Special Using a Tennis Ball To Release\nWITH JASMIJN KOELINK\nSunday 13 December 2020 2pm – 5pm at Yoga Moves \n\nDe-stress\, Recover and Relax\nIn this workshop\, you’ll experience the effect of Yin related yoga on your body in a long session – using a tennis ball. This will give you some insights and techniques to help you to become more flexible and you’ll learn to release tension and pain. It can also free emotional energy stored in the body. \nBy using tennis balls\, relaxing becomes much easier than one might think. Anyone can do it! Afterward\, you’ll notice a smoother and more stable yoga practice. First\, we will relax and de-stress hips\, buttocks\, pelvis\, and parts of the legs\, followed by softening the back and shoulders. This will also stimulate and massage the organs. \nWe’ll seal the workshop with a long relaxing posture to allow the effect to sink in deeply. We integrate and explore some breathing techniques\, adding extra pleasure and relaxation to this form of Yin yoga. After this workshop\, you’ll be able to apply the technique of deep tissue relaxation (or deep tissue release) easily at home. \nExperience the healing power generated by this practice and give yourself some time to experience the deep relaxation in your body. Afterward\, you feel more energetic and your movements more supple. This workshop is open to everyone. \nThis workshop is open to everyone. Also for pregnant women\, with some adjustments. \nSIGN UP & MORE INFORMATION.
URL:https://jasmijnkoelink.com/programma/workshop-massage-yourself-pain-free-with-a-tennis-ball/
LOCATION:Yoga Moves\, St. Janshovenstraat 1\, Utrecht\, Netherlands
CATEGORIES:Agenda,retraites,Utrecht,Yoga Moves
ATTACH;FMTTYPE=image/jpeg:https://jasmijnkoelink.com/wp-content/uploads/2018/03/Yin-yoga-special-met-tennisbal.jpg
END:VEVENT
BEGIN:VEVENT
DTSTART;TZID=UTC:20201214T203000
DTEND;TZID=UTC:20201214T214500
DTSTAMP:20260425T142402
CREATED:20161127T120158Z
LAST-MODIFIED:20190516T193108Z
UID:3923-1607977800-1607982300@jasmijnkoelink.com
SUMMARY:Slow Flow - Yoga Moves Utrecht
DESCRIPTION:Breath-oriented\, intense and relaxing at the same time.\nJoin my slow flow classes at Yoga Moves. \nDuring Slow Flow\, you spend more time both within and between poses. As a result\, you combine activity with relaxation -and class takes on a more meditative character. The foundation of this style is a gentle vinyasa (breath initiated movement) filled with relaxing and restorative poses where you rest for longer periods of time. Slow Flow brings balance. This makes it suitable if you are very active – or tired. \n\n\n\nJasmijn has an eye for detail. She combines the flow in her classes with accuracy and adjustments for her students. Jasmijn is a kind of teacher whose personal care isn’t limited to class.\n\nErik Bouwens
URL:https://jasmijnkoelink.com/programma/slow-flow-2020-12-14/
LOCATION:Yoga Moves\, St. Janshovenstraat 1\, Utrecht\, Netherlands
CATEGORIES:Les,Utrecht,Yoga Moves
ATTACH;FMTTYPE=image/jpeg:https://jasmijnkoelink.com/wp-content/uploads/2016/11/yogastijlen.jpg
END:VEVENT
BEGIN:VEVENT
DTSTART;TZID=UTC:20201221T203000
DTEND;TZID=UTC:20201221T214500
DTSTAMP:20260425T142402
CREATED:20161127T120158Z
LAST-MODIFIED:20190516T193107Z
UID:3924-1608582600-1608587100@jasmijnkoelink.com
SUMMARY:Slow Flow - Yoga Moves Utrecht
DESCRIPTION:Breath-oriented\, intense and relaxing at the same time.\nJoin my slow flow classes at Yoga Moves. \nDuring Slow Flow\, you spend more time both within and between poses. As a result\, you combine activity with relaxation -and class takes on a more meditative character. The foundation of this style is a gentle vinyasa (breath initiated movement) filled with relaxing and restorative poses where you rest for longer periods of time. Slow Flow brings balance. This makes it suitable if you are very active – or tired. \n\n\n\nJasmijn has an eye for detail. She combines the flow in her classes with accuracy and adjustments for her students. Jasmijn is a kind of teacher whose personal care isn’t limited to class.\n\nErik Bouwens
URL:https://jasmijnkoelink.com/programma/slow-flow-2020-12-21/
LOCATION:Yoga Moves\, St. Janshovenstraat 1\, Utrecht\, Netherlands
CATEGORIES:Les,Utrecht,Yoga Moves
ATTACH;FMTTYPE=image/jpeg:https://jasmijnkoelink.com/wp-content/uploads/2016/11/yogastijlen.jpg
END:VEVENT
BEGIN:VEVENT
DTSTART;TZID=UTC:20201228T203000
DTEND;TZID=UTC:20201228T214500
DTSTAMP:20260425T142402
CREATED:20161127T120158Z
LAST-MODIFIED:20190516T193106Z
UID:3925-1609187400-1609191900@jasmijnkoelink.com
SUMMARY:Slow Flow - Yoga Moves Utrecht
DESCRIPTION:Breath-oriented\, intense and relaxing at the same time.\nJoin my slow flow classes at Yoga Moves. \nDuring Slow Flow\, you spend more time both within and between poses. As a result\, you combine activity with relaxation -and class takes on a more meditative character. The foundation of this style is a gentle vinyasa (breath initiated movement) filled with relaxing and restorative poses where you rest for longer periods of time. Slow Flow brings balance. This makes it suitable if you are very active – or tired. \n\n\n\nJasmijn has an eye for detail. She combines the flow in her classes with accuracy and adjustments for her students. Jasmijn is a kind of teacher whose personal care isn’t limited to class.\n\nErik Bouwens
URL:https://jasmijnkoelink.com/programma/slow-flow-2020-12-28/
LOCATION:Yoga Moves\, St. Janshovenstraat 1\, Utrecht\, Netherlands
CATEGORIES:Les,Utrecht,Yoga Moves
ATTACH;FMTTYPE=image/jpeg:https://jasmijnkoelink.com/wp-content/uploads/2016/11/yogastijlen.jpg
END:VEVENT
END:VCALENDAR