BEGIN:VCALENDAR
VERSION:2.0
PRODID:-//Jasmijn Koelink - ECPv6.15.14//NONSGML v1.0//EN
CALSCALE:GREGORIAN
METHOD:PUBLISH
X-WR-CALNAME:Jasmijn Koelink
X-ORIGINAL-URL:https://jasmijnkoelink.com
X-WR-CALDESC:Evenementen voor Jasmijn Koelink
REFRESH-INTERVAL;VALUE=DURATION:PT1H
X-Robots-Tag:noindex
X-PUBLISHED-TTL:PT1H
BEGIN:VTIMEZONE
TZID:UTC
BEGIN:STANDARD
TZOFFSETFROM:+0000
TZOFFSETTO:+0000
TZNAME:UTC
DTSTART:20200101T000000
END:STANDARD
END:VTIMEZONE
BEGIN:VEVENT
DTSTART;TZID=UTC:20210104T203000
DTEND;TZID=UTC:20210104T214500
DTSTAMP:20260425T123716
CREATED:20161127T120158Z
LAST-MODIFIED:20190516T193106Z
UID:3926-1609792200-1609796700@jasmijnkoelink.com
SUMMARY:Slow Flow - Yoga Moves Utrecht
DESCRIPTION:Breath-oriented\, intense and relaxing at the same time.\nJoin my slow flow classes at Yoga Moves. \nDuring Slow Flow\, you spend more time both within and between poses. As a result\, you combine activity with relaxation -and class takes on a more meditative character. The foundation of this style is a gentle vinyasa (breath initiated movement) filled with relaxing and restorative poses where you rest for longer periods of time. Slow Flow brings balance. This makes it suitable if you are very active – or tired. \n\n\n\nJasmijn has an eye for detail. She combines the flow in her classes with accuracy and adjustments for her students. Jasmijn is a kind of teacher whose personal care isn’t limited to class.\n\nErik Bouwens
URL:https://jasmijnkoelink.com/programma/slow-flow-2021-01-04/
LOCATION:Yoga Moves\, St. Janshovenstraat 1\, Utrecht\, Netherlands
CATEGORIES:Les,Utrecht,Yoga Moves
ATTACH;FMTTYPE=image/jpeg:https://jasmijnkoelink.com/wp-content/uploads/2016/11/yogastijlen.jpg
END:VEVENT
BEGIN:VEVENT
DTSTART;TZID=UTC:20210111T203000
DTEND;TZID=UTC:20210111T214500
DTSTAMP:20260425T123716
CREATED:20161127T120158Z
LAST-MODIFIED:20190516T193106Z
UID:3927-1610397000-1610401500@jasmijnkoelink.com
SUMMARY:Slow Flow - Yoga Moves Utrecht
DESCRIPTION:Breath-oriented\, intense and relaxing at the same time.\nJoin my slow flow classes at Yoga Moves. \nDuring Slow Flow\, you spend more time both within and between poses. As a result\, you combine activity with relaxation -and class takes on a more meditative character. The foundation of this style is a gentle vinyasa (breath initiated movement) filled with relaxing and restorative poses where you rest for longer periods of time. Slow Flow brings balance. This makes it suitable if you are very active – or tired. \n\n\n\nJasmijn has an eye for detail. She combines the flow in her classes with accuracy and adjustments for her students. Jasmijn is a kind of teacher whose personal care isn’t limited to class.\n\nErik Bouwens
URL:https://jasmijnkoelink.com/programma/slow-flow-2021-01-11/
LOCATION:Yoga Moves\, St. Janshovenstraat 1\, Utrecht\, Netherlands
CATEGORIES:Les,Utrecht,Yoga Moves
ATTACH;FMTTYPE=image/jpeg:https://jasmijnkoelink.com/wp-content/uploads/2016/11/yogastijlen.jpg
END:VEVENT
BEGIN:VEVENT
DTSTART;TZID=UTC:20210118T203000
DTEND;TZID=UTC:20210118T214500
DTSTAMP:20260425T123716
CREATED:20161127T120158Z
LAST-MODIFIED:20190516T193104Z
UID:3928-1611001800-1611006300@jasmijnkoelink.com
SUMMARY:Slow Flow - Yoga Moves Utrecht
DESCRIPTION:Breath-oriented\, intense and relaxing at the same time.\nJoin my slow flow classes at Yoga Moves. \nDuring Slow Flow\, you spend more time both within and between poses. As a result\, you combine activity with relaxation -and class takes on a more meditative character. The foundation of this style is a gentle vinyasa (breath initiated movement) filled with relaxing and restorative poses where you rest for longer periods of time. Slow Flow brings balance. This makes it suitable if you are very active – or tired. \n\n\n\nJasmijn has an eye for detail. She combines the flow in her classes with accuracy and adjustments for her students. Jasmijn is a kind of teacher whose personal care isn’t limited to class.\n\nErik Bouwens
URL:https://jasmijnkoelink.com/programma/slow-flow-2021-01-18/
LOCATION:Yoga Moves\, St. Janshovenstraat 1\, Utrecht\, Netherlands
CATEGORIES:Les,Utrecht,Yoga Moves
ATTACH;FMTTYPE=image/jpeg:https://jasmijnkoelink.com/wp-content/uploads/2016/11/yogastijlen.jpg
END:VEVENT
BEGIN:VEVENT
DTSTART;TZID=UTC:20210125T203000
DTEND;TZID=UTC:20210125T214500
DTSTAMP:20260425T123716
CREATED:20161127T120158Z
LAST-MODIFIED:20190516T193103Z
UID:3929-1611606600-1611611100@jasmijnkoelink.com
SUMMARY:Slow Flow - Yoga Moves Utrecht
DESCRIPTION:Breath-oriented\, intense and relaxing at the same time.\nJoin my slow flow classes at Yoga Moves. \nDuring Slow Flow\, you spend more time both within and between poses. As a result\, you combine activity with relaxation -and class takes on a more meditative character. The foundation of this style is a gentle vinyasa (breath initiated movement) filled with relaxing and restorative poses where you rest for longer periods of time. Slow Flow brings balance. This makes it suitable if you are very active – or tired. \n\n\n\nJasmijn has an eye for detail. She combines the flow in her classes with accuracy and adjustments for her students. Jasmijn is a kind of teacher whose personal care isn’t limited to class.\n\nErik Bouwens
URL:https://jasmijnkoelink.com/programma/slow-flow-2021-01-25/
LOCATION:Yoga Moves\, St. Janshovenstraat 1\, Utrecht\, Netherlands
CATEGORIES:Les,Utrecht,Yoga Moves
ATTACH;FMTTYPE=image/jpeg:https://jasmijnkoelink.com/wp-content/uploads/2016/11/yogastijlen.jpg
END:VEVENT
END:VCALENDAR