BEGIN:VCALENDAR
VERSION:2.0
PRODID:-//Jasmijn Koelink - ECPv6.15.14//NONSGML v1.0//EN
CALSCALE:GREGORIAN
METHOD:PUBLISH
X-WR-CALNAME:Jasmijn Koelink
X-ORIGINAL-URL:https://jasmijnkoelink.com
X-WR-CALDESC:Evenementen voor Jasmijn Koelink
REFRESH-INTERVAL;VALUE=DURATION:PT1H
X-Robots-Tag:noindex
X-PUBLISHED-TTL:PT1H
BEGIN:VTIMEZONE
TZID:UTC
BEGIN:STANDARD
TZOFFSETFROM:+0000
TZOFFSETTO:+0000
TZNAME:UTC
DTSTART:20200101T000000
END:STANDARD
END:VTIMEZONE
BEGIN:VEVENT
DTSTART;TZID=UTC:20210201T203000
DTEND;TZID=UTC:20210201T214500
DTSTAMP:20260425T105731
CREATED:20161127T120158Z
LAST-MODIFIED:20190516T193102Z
UID:3930-1612211400-1612215900@jasmijnkoelink.com
SUMMARY:Slow Flow - Yoga Moves Utrecht
DESCRIPTION:Breath-oriented\, intense and relaxing at the same time.\nJoin my slow flow classes at Yoga Moves. \nDuring Slow Flow\, you spend more time both within and between poses. As a result\, you combine activity with relaxation -and class takes on a more meditative character. The foundation of this style is a gentle vinyasa (breath initiated movement) filled with relaxing and restorative poses where you rest for longer periods of time. Slow Flow brings balance. This makes it suitable if you are very active – or tired. \n\n\n\nJasmijn has an eye for detail. She combines the flow in her classes with accuracy and adjustments for her students. Jasmijn is a kind of teacher whose personal care isn’t limited to class.\n\nErik Bouwens
URL:https://jasmijnkoelink.com/programma/slow-flow-2021-02-01/
LOCATION:Yoga Moves\, St. Janshovenstraat 1\, Utrecht\, Netherlands
CATEGORIES:Les,Utrecht,Yoga Moves
ATTACH;FMTTYPE=image/jpeg:https://jasmijnkoelink.com/wp-content/uploads/2016/11/yogastijlen.jpg
END:VEVENT
BEGIN:VEVENT
DTSTART;TZID=UTC:20210208T203000
DTEND;TZID=UTC:20210208T214500
DTSTAMP:20260425T105731
CREATED:20161127T120158Z
LAST-MODIFIED:20190516T193101Z
UID:5118-1612816200-1612820700@jasmijnkoelink.com
SUMMARY:Slow Flow - Yoga Moves Utrecht
DESCRIPTION:Breath-oriented\, intense and relaxing at the same time.\nJoin my slow flow classes at Yoga Moves. \nDuring Slow Flow\, you spend more time both within and between poses. As a result\, you combine activity with relaxation -and class takes on a more meditative character. The foundation of this style is a gentle vinyasa (breath initiated movement) filled with relaxing and restorative poses where you rest for longer periods of time. Slow Flow brings balance. This makes it suitable if you are very active – or tired. \n\n\n\nJasmijn has an eye for detail. She combines the flow in her classes with accuracy and adjustments for her students. Jasmijn is a kind of teacher whose personal care isn’t limited to class.\n\nErik Bouwens
URL:https://jasmijnkoelink.com/programma/slow-flow-2021-02-08/
LOCATION:Yoga Moves\, St. Janshovenstraat 1\, Utrecht\, Netherlands
CATEGORIES:Les,Utrecht,Yoga Moves
ATTACH;FMTTYPE=image/jpeg:https://jasmijnkoelink.com/wp-content/uploads/2016/11/yogastijlen.jpg
END:VEVENT
BEGIN:VEVENT
DTSTART;TZID=UTC:20210215T203000
DTEND;TZID=UTC:20210215T214500
DTSTAMP:20260425T105731
CREATED:20161127T120158Z
LAST-MODIFIED:20190516T193101Z
UID:5121-1613421000-1613425500@jasmijnkoelink.com
SUMMARY:Slow Flow - Yoga Moves Utrecht
DESCRIPTION:Breath-oriented\, intense and relaxing at the same time.\nJoin my slow flow classes at Yoga Moves. \nDuring Slow Flow\, you spend more time both within and between poses. As a result\, you combine activity with relaxation -and class takes on a more meditative character. The foundation of this style is a gentle vinyasa (breath initiated movement) filled with relaxing and restorative poses where you rest for longer periods of time. Slow Flow brings balance. This makes it suitable if you are very active – or tired. \n\n\n\nJasmijn has an eye for detail. She combines the flow in her classes with accuracy and adjustments for her students. Jasmijn is a kind of teacher whose personal care isn’t limited to class.\n\nErik Bouwens
URL:https://jasmijnkoelink.com/programma/slow-flow-2021-02-15/
LOCATION:Yoga Moves\, St. Janshovenstraat 1\, Utrecht\, Netherlands
CATEGORIES:Les,Utrecht,Yoga Moves
ATTACH;FMTTYPE=image/jpeg:https://jasmijnkoelink.com/wp-content/uploads/2016/11/yogastijlen.jpg
END:VEVENT
BEGIN:VEVENT
DTSTART;TZID=UTC:20210222T203000
DTEND;TZID=UTC:20210222T214500
DTSTAMP:20260425T105731
CREATED:20161127T120158Z
LAST-MODIFIED:20190516T193100Z
UID:5133-1614025800-1614030300@jasmijnkoelink.com
SUMMARY:Slow Flow - Yoga Moves Utrecht
DESCRIPTION:Breath-oriented\, intense and relaxing at the same time.\nJoin my slow flow classes at Yoga Moves. \nDuring Slow Flow\, you spend more time both within and between poses. As a result\, you combine activity with relaxation -and class takes on a more meditative character. The foundation of this style is a gentle vinyasa (breath initiated movement) filled with relaxing and restorative poses where you rest for longer periods of time. Slow Flow brings balance. This makes it suitable if you are very active – or tired. \n\n\n\nJasmijn has an eye for detail. She combines the flow in her classes with accuracy and adjustments for her students. Jasmijn is a kind of teacher whose personal care isn’t limited to class.\n\nErik Bouwens
URL:https://jasmijnkoelink.com/programma/slow-flow-2021-02-22/
LOCATION:Yoga Moves\, St. Janshovenstraat 1\, Utrecht\, Netherlands
CATEGORIES:Les,Utrecht,Yoga Moves
ATTACH;FMTTYPE=image/jpeg:https://jasmijnkoelink.com/wp-content/uploads/2016/11/yogastijlen.jpg
END:VEVENT
END:VCALENDAR