BEGIN:VCALENDAR
VERSION:2.0
PRODID:-//Jasmijn Koelink - ECPv6.15.14//NONSGML v1.0//EN
CALSCALE:GREGORIAN
METHOD:PUBLISH
X-ORIGINAL-URL:https://jasmijnkoelink.com
X-WR-CALDESC:Evenementen voor Jasmijn Koelink
REFRESH-INTERVAL;VALUE=DURATION:PT1H
X-Robots-Tag:noindex
X-PUBLISHED-TTL:PT1H
BEGIN:VTIMEZONE
TZID:UTC
BEGIN:STANDARD
TZOFFSETFROM:+0000
TZOFFSETTO:+0000
TZNAME:UTC
DTSTART:20150101T000000
END:STANDARD
END:VTIMEZONE
BEGIN:VEVENT
DTSTART;VALUE=DATE:20161202
DTEND;VALUE=DATE:20170105
DTSTAMP:20260421T013549
CREATED:20161127T122449Z
LAST-MODIFIED:20170220T204628Z
UID:93-1480636800-1483574399@jasmijnkoelink.com
SUMMARY:Eetbaar schrijven
DESCRIPTION:Zin in je leven door schrijven\,\nstilteweekend III: Eetbaar schrijven (oogsten)\nin Dominicanenklooster Huissen\nWie schrijft wil meestal wel gelezen worden. Dit natuurlijke verlangen vereist kunst; de kunst om je schrijven te polijsten en te delen met de wereld. Misschien heb je kladblokken of dagboeken volgeschreven\, maar hoe verbind je dat nu met een blog\, memoires of roman die je wilt schrijven? Dit weekend biedt inzichten en oefeningen om de verbinding te maken tussen je schrijfbeoefening en ‘eetbaar schrijven’. Je leert je schrijven oogsten. \nJe leert rauwe\, ongepolijste stukken om te buigen zonder hun energie te verliezen. Je zet de Vriendelijke Criticus in en ontwikkelt technische vaardigheden. Jasmijn leert je specifieke yogahoudingen en oefeningen die je tijdens het schrijven ondersteunen. Je leert delen\, kwetsbaar te zijn\, te luisteren\, feedback te ontvangen en te geven. Dit weekend is een gelegenheid om dat in een veilige\, open en opbouwende setting te doen. \nHet programma\, de toegankelijke yogasessies\, de verzorgende omgeving van het klooster zorgen voor een ontspannen weekend\, waarin je helemaal kunt richten op je schrijven. \nMeer informatie en inschrijving
URL:https://jasmijnkoelink.com/programma/eetbaar-schrijven/
LOCATION:Dominicanenklooster Huissen\, Stadsdam 1\, Huissen
CATEGORIES:Agenda,Huissen,Retraite,Yoga en schrijven
ATTACH;FMTTYPE=image/jpeg:https://jasmijnkoelink.com/wp-content/uploads/2016/11/schrijven-en-yoga-workshop.jpg
END:VEVENT
BEGIN:VEVENT
DTSTART;TZID=UTC:20161210T090000
DTEND;TZID=UTC:20161210T101500
DTSTAMP:20260421T013549
CREATED:20161127T121010Z
LAST-MODIFIED:20161127T121010Z
UID:84-1481360400-1481364900@jasmijnkoelink.com
SUMMARY:Yoga Basic
DESCRIPTION:Tekst volgt.
URL:https://jasmijnkoelink.com/programma/yoga-basic/
LOCATION:Yoga Moves\, St. Janshovenstraat 1\, Utrecht\, Netherlands
CATEGORIES:Les,Utrecht,Yoga Moves
ATTACH;FMTTYPE=image/jpeg:https://jasmijnkoelink.com/wp-content/uploads/2016/11/Jasmijn-Koelink-Yoga-Contact.jpg
END:VEVENT
BEGIN:VEVENT
DTSTART;TZID=UTC:20161210T103000
DTEND;TZID=UTC:20161210T103000
DTSTAMP:20260421T013549
CREATED:20161127T121121Z
LAST-MODIFIED:20161127T121121Z
UID:86-1481365800-1481365800@jasmijnkoelink.com
SUMMARY:Vinyasa Yoga
DESCRIPTION:Vinyasa is een dynamische yogastijl waarin de adem de bewegingen leidt. Het is intensief\, spierversterkend en kent een duidelijke opbouw\, piek en afbouw. De uitdaging is om tijdens de flow bewust te blijven van een goede uitlijning van je lichaam\, om blessures te voorkomen. Doordat de hartslag omhoog gaat en je je longcapaciteit vergroot\, heeft het een activerend effect. Vinyasa is goed om te doen als je meer (spier)kracht wilt ontwikkelen\, en je een uitdagende beoefening zoekt. Naast dat vinyasa een krachtige vorm is\, raakt het op een vriendelijke manier ook de mentale en emotionele kant aan. Hierdoor verruim je naast je uithoudingsvermogen ook je innerlijke kracht\, concentratie en vitaliteit.
URL:https://jasmijnkoelink.com/programma/vinyasa-yoga-zaterdag-yogamoves/
LOCATION:Yoga Moves\, St. Janshovenstraat 1\, Utrecht\, Netherlands
CATEGORIES:Les,Utrecht,Yoga Moves
ATTACH;FMTTYPE=image/jpeg:https://jasmijnkoelink.com/wp-content/uploads/2016/11/jasmijn-yin-flow.jpg
END:VEVENT
END:VCALENDAR