BEGIN:VCALENDAR
VERSION:2.0
PRODID:-//Jasmijn Koelink - ECPv6.15.14//NONSGML v1.0//EN
CALSCALE:GREGORIAN
METHOD:PUBLISH
X-WR-CALNAME:Jasmijn Koelink
X-ORIGINAL-URL:https://jasmijnkoelink.com
X-WR-CALDESC:Evenementen voor Jasmijn Koelink
REFRESH-INTERVAL;VALUE=DURATION:PT1H
X-Robots-Tag:noindex
X-PUBLISHED-TTL:PT1H
BEGIN:VTIMEZONE
TZID:UTC
BEGIN:STANDARD
TZOFFSETFROM:+0000
TZOFFSETTO:+0000
TZNAME:UTC
DTSTART:20160101T000000
END:STANDARD
END:VTIMEZONE
BEGIN:VEVENT
DTSTART;VALUE=DATE:20170113
DTEND;VALUE=DATE:20170710
DTSTAMP:20260420T215450
CREATED:20161127T123039Z
LAST-MODIFIED:20170416T181457Z
UID:98-1484265600-1499644799@jasmijnkoelink.com
SUMMARY:VINYASA YOGA TEACHER TRAINING - 200 hour
DESCRIPTION:VINYASA YOGA Teacher Training 200 hour\nat Yoga Moves in Utrecht\nOur professional program will give you an excellent basis from which you can build a successful career as a yoga teacher + an internationally recognised certificate (Yoga Alliance RYT- 200 hours). The Yoga Moves program (est. 2001) is one of The Netherlands top teacher training courses for fluid vinyasa based powerful yoga. \nOur strength comes from drawing on a range of yoga traditions\, rather than focusing on one particular school or style of yoga. We are influenced by both modern and ancient yogis\, making it accessible for everyone. \nIn this training you will build your awareness on how to see and respond to people\, their bodies\, and their potential. Our team will teach you sound strategies for bringing the most out of your students. Deepen your own practice and understanding. Yoga Moves offers a year long program starting in January and a Summer intensive starting in July. \nYoga Moves will offer you tools to become a grounded and skilled yoga teacher.
URL:https://jasmijnkoelink.com/programma/vinyasa-yoga-docentenopleiding-200-uur/
LOCATION:Yoga Moves\, St. Janshovenstraat 1\, Utrecht\, Netherlands
CATEGORIES:Agenda,Training,Utrecht,Yoga Moves
ATTACH;FMTTYPE=image/jpeg:https://jasmijnkoelink.com/wp-content/uploads/2016/11/jasmijn-yin-flow.jpg
END:VEVENT
BEGIN:VEVENT
DTSTART;VALUE=DATE:20170203
DTEND;VALUE=DATE:20171201
DTSTAMP:20260420T215450
CREATED:20161127T122831Z
LAST-MODIFIED:20170220T204519Z
UID:96-1486080000-1512086399@jasmijnkoelink.com
SUMMARY:Jaarprogramma Zin: Schrijf- en stilteretraites
DESCRIPTION:Jaarprogramma Zin: Schrijf- en stilteretraites in Dominicanenklooster Huissen \nIn 2017 bied ik in samenwerking met Klooster Huissen en schrijfster Geertje Couwenbergh weer een jaartraject aan voor zowel terugkerende studenten als nieuwe deelnemers. Het bestaat uit vier creatieve schrijfweekenden en twee keer een vijfdaagse retraite. We bieden bovendien fikse kortingen aan als je ervoor kiest meerdere programma’s te doen! \nLees verder op deze website.
URL:https://jasmijnkoelink.com/programma/jaarprogramma-zin-schrijf-en-stilteretraites/
LOCATION:Dominicanenklooster Huissen\, Stadsdam 1\, Huissen
CATEGORIES:Agenda,Huissen,Retraite,Training,Yoga en schrijven
ATTACH;FMTTYPE=image/jpeg:https://jasmijnkoelink.com/wp-content/uploads/2016/11/schrijven-en-yoga-workshop.jpg
END:VEVENT
BEGIN:VEVENT
DTSTART;VALUE=DATE:20170203
DTEND;VALUE=DATE:20170206
DTSTAMP:20260420T215450
CREATED:20161127T123258Z
LAST-MODIFIED:20170220T204526Z
UID:100-1486080000-1486339199@jasmijnkoelink.com
SUMMARY:Zin: WINTER Schrijf en Stilteweekend
DESCRIPTION:Zin: WINTER Schrijf en Stilteweekend\nin Dominicanenklooster Huissen\nVerstilling\, inzicht & belichaming.\nWinter is de perfecte tijd voor verstilling. Kom tot rust en inzicht in het klooster tijdens dit geliefde schrijf- en stilteweekend onder begeleiding van schrijfster Geertje Couwenbergh en mijzelf. \nDit programma kan ook onderdeel uitmaken van een jaarpakket of van twee stilteweekenden en één vijfdaagse retraite! Lees hier meer informatie. \nHet programma\, de omgeving van het klooster\, geheel verzorgde maaltijden en het ritme van de diensten zorgt voor een zorgeloos weekend\, waarin je helemaal kunt ontspannen. \nElke dag bestaat uit twee gezamenlijke schrijfsessies\, ochtend meditatie\, eenvoudige beweging- en ademhalingsoefeningen. In de middag en avond is er ruimte om aan je eigen schrijfprojecten te werken\, te lezen\, genieten van de kloostertuin\, wandelen of rusten. We zullen zoveel mogelijk meedraaien in het ritme van het klooster. \nMeer informatie en inschrijving
URL:https://jasmijnkoelink.com/programma/zin-winter-schrijf-en-stilteweekend/
LOCATION:Dominicanenklooster Huissen\, Stadsdam 1\, Huissen
CATEGORIES:Agenda,Huissen,Retraite,Workshops & Weekends,Yoga en schrijven
ATTACH;FMTTYPE=image/jpeg:https://jasmijnkoelink.com/wp-content/uploads/2016/11/schrijven-en-yoga-workshop.jpg
END:VEVENT
END:VCALENDAR