BEGIN:VCALENDAR
VERSION:2.0
PRODID:-//Jasmijn Koelink - ECPv6.15.14//NONSGML v1.0//EN
CALSCALE:GREGORIAN
METHOD:PUBLISH
X-WR-CALNAME:Jasmijn Koelink
X-ORIGINAL-URL:https://jasmijnkoelink.com
X-WR-CALDESC:Evenementen voor Jasmijn Koelink
REFRESH-INTERVAL;VALUE=DURATION:PT1H
X-Robots-Tag:noindex
X-PUBLISHED-TTL:PT1H
BEGIN:VTIMEZONE
TZID:UTC
BEGIN:STANDARD
TZOFFSETFROM:+0000
TZOFFSETTO:+0000
TZNAME:UTC
DTSTART:20200101T000000
END:STANDARD
END:VTIMEZONE
BEGIN:VEVENT
DTSTART;VALUE=DATE:20211204
DTEND;VALUE=DATE:20211205
DTSTAMP:20260425T015519
CREATED:20210403T130941Z
LAST-MODIFIED:20211027T133648Z
UID:7369-1638576000-1638662399@jasmijnkoelink.com
SUMMARY:Yoga & The Work: A Flexible Mind in A Flexible Body
DESCRIPTION:YOGA & THE WORK;\nA FLEXIBLE MIND IN A FLEXIBLE BODY\nCome and join this workout for body and mind – Yoga Moves Utrecht 4 DECEMBER 2-5 pm.\nLet your body and your mind meet to tackle the source of your stress – any frustration\, doubts\, sadness\, anger\, worries. Body & Mind Yoga integrates the method “The Work” of Byron Katie © with yoga. \nThis session is a workout for your body and your mind\, the perfect everyday practice. The class starts with mindful movement and breathing exercises to support a meditative state of being. After movement\, you drop into stillness and observe what arises within you. Through a guided meditation or specific questions\, you identify the stressful – painful and limiting – thoughts\, beliefs\, and feelings about what you think is happening in your life. \nYou then question them through the method. This allows you to explore the interaction between your thoughts and how your body expresses itself – emotionally and physically. You witness the difference between cause and effect – and notice what you think is happening and what really is happening. The method is a simple\, yet powerful practice. Everybody can do it. It allows you to access your own wisdom that always exists within you. \n“No one has ever been able to control their thinking\, although people may tell the story of how they have. I don’t let go of my thoughts — I meet them with understanding. Then they let go of me.” – Byron Katie \nAn unquestioned mind is the only suffering. \n  \nSIGN UP HERE\nJasmijn is a certified Facilitator of The Work. \n  \nMore about The Work: www.thework.com \nDate & Time Saturday 4 December | 14:00-17:00 \nPrice €39 | €32.50 members \nLocation Studio One | St. Janshovenstraat 1 | Utrecht
URL:https://jasmijnkoelink.com/programma/yoga-the-work-2-5pm/
LOCATION:Yoga Moves\, St. Janshovenstraat 1\, Utrecht\, Netherlands
CATEGORIES:retraites
ATTACH;FMTTYPE=image/jpeg:https://jasmijnkoelink.com/wp-content/uploads/2016/11/mudra-yin-balls-kopie-e1528364453227.jpg
END:VEVENT
END:VCALENDAR