BEGIN:VCALENDAR
VERSION:2.0
PRODID:-//Jasmijn Koelink - ECPv6.15.14//NONSGML v1.0//EN
CALSCALE:GREGORIAN
METHOD:PUBLISH
X-WR-CALNAME:Jasmijn Koelink
X-ORIGINAL-URL:https://jasmijnkoelink.com
X-WR-CALDESC:Evenementen voor Jasmijn Koelink
REFRESH-INTERVAL;VALUE=DURATION:PT1H
X-Robots-Tag:noindex
X-PUBLISHED-TTL:PT1H
BEGIN:VTIMEZONE
TZID:UTC
BEGIN:STANDARD
TZOFFSETFROM:+0000
TZOFFSETTO:+0000
TZNAME:UTC
DTSTART:20200101T000000
END:STANDARD
END:VTIMEZONE
BEGIN:VEVENT
DTSTART;TZID=UTC:20210105T200000
DTEND;TZID=UTC:20210105T213000
DTSTAMP:20260423T045357
CREATED:20170418T082829Z
LAST-MODIFIED:20190516T193106Z
UID:4460-1609876800-1609882200@jasmijnkoelink.com
SUMMARY:Hatha Yoga - Delight Yoga Amsterdam
DESCRIPTION:My Hatha Yoga class includes breath-­based yoga movement and mindfulness.\nJoin Jasmijn’s weekly class at Delight Yoga – Amsterdam.\nThis class is accessible for both beginners and advanced practitioners\, as Jasmijn integrates different options and individual guidance. It’s breath-oriented\, intense and relaxing at the same time. Which will have a direct effect on your well-being. \nWith this practice\, your body will feel open and strong\, your breathing unobstructed and your mind calm and steady. \nThe hatha yoga postures are sequenced to create strength\, flexibility\, openness\, and relaxation throughout the practice\, which includes physical strength and discipline\, improved circulation and flexibility\, steadiness of breathing\, clarity of mind\, stress-reduction\, and relaxation.\nThe intensity of the practice can sometimes vary\, and you can make it allways personal to your needs. \n\n\n\nCharacteristic for her teaching style is: devoted\, professional\, attentive\, clear and accessible for Everyone.\n\nMarlies van der Molen
URL:https://jasmijnkoelink.com/programma/hatha-yoga-2021-01-05/
CATEGORIES:Amsterdam,Delight Yoga,Les
ATTACH;FMTTYPE=image/jpeg:https://jasmijnkoelink.com/wp-content/uploads/2016/11/Programs.jpg
END:VEVENT
BEGIN:VEVENT
DTSTART;TZID=UTC:20210112T200000
DTEND;TZID=UTC:20210112T213000
DTSTAMP:20260423T045357
CREATED:20170418T082829Z
LAST-MODIFIED:20190516T193105Z
UID:4461-1610481600-1610487000@jasmijnkoelink.com
SUMMARY:Hatha Yoga - Delight Yoga Amsterdam
DESCRIPTION:My Hatha Yoga class includes breath-­based yoga movement and mindfulness.\nJoin Jasmijn’s weekly class at Delight Yoga – Amsterdam.\nThis class is accessible for both beginners and advanced practitioners\, as Jasmijn integrates different options and individual guidance. It’s breath-oriented\, intense and relaxing at the same time. Which will have a direct effect on your well-being. \nWith this practice\, your body will feel open and strong\, your breathing unobstructed and your mind calm and steady. \nThe hatha yoga postures are sequenced to create strength\, flexibility\, openness\, and relaxation throughout the practice\, which includes physical strength and discipline\, improved circulation and flexibility\, steadiness of breathing\, clarity of mind\, stress-reduction\, and relaxation.\nThe intensity of the practice can sometimes vary\, and you can make it allways personal to your needs. \n\n\n\nCharacteristic for her teaching style is: devoted\, professional\, attentive\, clear and accessible for Everyone.\n\nMarlies van der Molen
URL:https://jasmijnkoelink.com/programma/hatha-yoga-2021-01-12/
CATEGORIES:Amsterdam,Delight Yoga,Les
ATTACH;FMTTYPE=image/jpeg:https://jasmijnkoelink.com/wp-content/uploads/2016/11/Programs.jpg
END:VEVENT
BEGIN:VEVENT
DTSTART;TZID=UTC:20210119T200000
DTEND;TZID=UTC:20210119T213000
DTSTAMP:20260423T045357
CREATED:20170418T082829Z
LAST-MODIFIED:20190516T193103Z
UID:4464-1611086400-1611091800@jasmijnkoelink.com
SUMMARY:Hatha Yoga - Delight Yoga Amsterdam
DESCRIPTION:My Hatha Yoga class includes breath-­based yoga movement and mindfulness.\nJoin Jasmijn’s weekly class at Delight Yoga – Amsterdam.\nThis class is accessible for both beginners and advanced practitioners\, as Jasmijn integrates different options and individual guidance. It’s breath-oriented\, intense and relaxing at the same time. Which will have a direct effect on your well-being. \nWith this practice\, your body will feel open and strong\, your breathing unobstructed and your mind calm and steady. \nThe hatha yoga postures are sequenced to create strength\, flexibility\, openness\, and relaxation throughout the practice\, which includes physical strength and discipline\, improved circulation and flexibility\, steadiness of breathing\, clarity of mind\, stress-reduction\, and relaxation.\nThe intensity of the practice can sometimes vary\, and you can make it allways personal to your needs. \n\n\n\nCharacteristic for her teaching style is: devoted\, professional\, attentive\, clear and accessible for Everyone.\n\nMarlies van der Molen
URL:https://jasmijnkoelink.com/programma/hatha-yoga-2021-01-19/
CATEGORIES:Amsterdam,Delight Yoga,Les
ATTACH;FMTTYPE=image/jpeg:https://jasmijnkoelink.com/wp-content/uploads/2016/11/Programs.jpg
END:VEVENT
BEGIN:VEVENT
DTSTART;TZID=UTC:20210126T200000
DTEND;TZID=UTC:20210126T213000
DTSTAMP:20260423T045357
CREATED:20170418T082829Z
LAST-MODIFIED:20190516T193102Z
UID:4465-1611691200-1611696600@jasmijnkoelink.com
SUMMARY:Hatha Yoga - Delight Yoga Amsterdam
DESCRIPTION:My Hatha Yoga class includes breath-­based yoga movement and mindfulness.\nJoin Jasmijn’s weekly class at Delight Yoga – Amsterdam.\nThis class is accessible for both beginners and advanced practitioners\, as Jasmijn integrates different options and individual guidance. It’s breath-oriented\, intense and relaxing at the same time. Which will have a direct effect on your well-being. \nWith this practice\, your body will feel open and strong\, your breathing unobstructed and your mind calm and steady. \nThe hatha yoga postures are sequenced to create strength\, flexibility\, openness\, and relaxation throughout the practice\, which includes physical strength and discipline\, improved circulation and flexibility\, steadiness of breathing\, clarity of mind\, stress-reduction\, and relaxation.\nThe intensity of the practice can sometimes vary\, and you can make it allways personal to your needs. \n\n\n\nCharacteristic for her teaching style is: devoted\, professional\, attentive\, clear and accessible for Everyone.\n\nMarlies van der Molen
URL:https://jasmijnkoelink.com/programma/hatha-yoga-2021-01-26/
CATEGORIES:Amsterdam,Delight Yoga,Les
ATTACH;FMTTYPE=image/jpeg:https://jasmijnkoelink.com/wp-content/uploads/2016/11/Programs.jpg
END:VEVENT
END:VCALENDAR