BEGIN:VCALENDAR
VERSION:2.0
PRODID:-//Jasmijn Koelink - ECPv6.15.14//NONSGML v1.0//EN
CALSCALE:GREGORIAN
METHOD:PUBLISH
X-ORIGINAL-URL:https://jasmijnkoelink.com
X-WR-CALDESC:Evenementen voor Jasmijn Koelink
REFRESH-INTERVAL;VALUE=DURATION:PT1H
X-Robots-Tag:noindex
X-PUBLISHED-TTL:PT1H
BEGIN:VTIMEZONE
TZID:UTC
BEGIN:STANDARD
TZOFFSETFROM:+0000
TZOFFSETTO:+0000
TZNAME:UTC
DTSTART:20200101T000000
END:STANDARD
END:VTIMEZONE
BEGIN:VEVENT
DTSTART;TZID=UTC:20210202T200000
DTEND;TZID=UTC:20210202T213000
DTSTAMP:20260423T012729
CREATED:20170418T082829Z
LAST-MODIFIED:20190516T193101Z
UID:4467-1612296000-1612301400@jasmijnkoelink.com
SUMMARY:Hatha Yoga - Delight Yoga Amsterdam
DESCRIPTION:My Hatha Yoga class includes breath-­based yoga movement and mindfulness.\nJoin Jasmijn’s weekly class at Delight Yoga – Amsterdam.\nThis class is accessible for both beginners and advanced practitioners\, as Jasmijn integrates different options and individual guidance. It’s breath-oriented\, intense and relaxing at the same time. Which will have a direct effect on your well-being. \nWith this practice\, your body will feel open and strong\, your breathing unobstructed and your mind calm and steady. \nThe hatha yoga postures are sequenced to create strength\, flexibility\, openness\, and relaxation throughout the practice\, which includes physical strength and discipline\, improved circulation and flexibility\, steadiness of breathing\, clarity of mind\, stress-reduction\, and relaxation.\nThe intensity of the practice can sometimes vary\, and you can make it allways personal to your needs. \n\n\n\nCharacteristic for her teaching style is: devoted\, professional\, attentive\, clear and accessible for Everyone.\n\nMarlies van der Molen
URL:https://jasmijnkoelink.com/programma/hatha-yoga-2021-02-02/
CATEGORIES:Amsterdam,Delight Yoga,Les
ATTACH;FMTTYPE=image/jpeg:https://jasmijnkoelink.com/wp-content/uploads/2016/11/Programs.jpg
END:VEVENT
BEGIN:VEVENT
DTSTART;TZID=UTC:20210209T200000
DTEND;TZID=UTC:20210209T213000
DTSTAMP:20260423T012729
CREATED:20170418T082829Z
LAST-MODIFIED:20190516T193101Z
UID:5120-1612900800-1612906200@jasmijnkoelink.com
SUMMARY:Hatha Yoga - Delight Yoga Amsterdam
DESCRIPTION:My Hatha Yoga class includes breath-­based yoga movement and mindfulness.\nJoin Jasmijn’s weekly class at Delight Yoga – Amsterdam.\nThis class is accessible for both beginners and advanced practitioners\, as Jasmijn integrates different options and individual guidance. It’s breath-oriented\, intense and relaxing at the same time. Which will have a direct effect on your well-being. \nWith this practice\, your body will feel open and strong\, your breathing unobstructed and your mind calm and steady. \nThe hatha yoga postures are sequenced to create strength\, flexibility\, openness\, and relaxation throughout the practice\, which includes physical strength and discipline\, improved circulation and flexibility\, steadiness of breathing\, clarity of mind\, stress-reduction\, and relaxation.\nThe intensity of the practice can sometimes vary\, and you can make it allways personal to your needs. \n\n\n\nCharacteristic for her teaching style is: devoted\, professional\, attentive\, clear and accessible for Everyone.\n\nMarlies van der Molen
URL:https://jasmijnkoelink.com/programma/hatha-yoga-2021-02-09/
CATEGORIES:Amsterdam,Delight Yoga,Les
ATTACH;FMTTYPE=image/jpeg:https://jasmijnkoelink.com/wp-content/uploads/2016/11/Programs.jpg
END:VEVENT
BEGIN:VEVENT
DTSTART;TZID=UTC:20210216T200000
DTEND;TZID=UTC:20210216T213000
DTSTAMP:20260423T012729
CREATED:20170418T082829Z
LAST-MODIFIED:20190516T193100Z
UID:5123-1613505600-1613511000@jasmijnkoelink.com
SUMMARY:Hatha Yoga - Delight Yoga Amsterdam
DESCRIPTION:My Hatha Yoga class includes breath-­based yoga movement and mindfulness.\nJoin Jasmijn’s weekly class at Delight Yoga – Amsterdam.\nThis class is accessible for both beginners and advanced practitioners\, as Jasmijn integrates different options and individual guidance. It’s breath-oriented\, intense and relaxing at the same time. Which will have a direct effect on your well-being. \nWith this practice\, your body will feel open and strong\, your breathing unobstructed and your mind calm and steady. \nThe hatha yoga postures are sequenced to create strength\, flexibility\, openness\, and relaxation throughout the practice\, which includes physical strength and discipline\, improved circulation and flexibility\, steadiness of breathing\, clarity of mind\, stress-reduction\, and relaxation.\nThe intensity of the practice can sometimes vary\, and you can make it allways personal to your needs. \n\n\n\nCharacteristic for her teaching style is: devoted\, professional\, attentive\, clear and accessible for Everyone.\n\nMarlies van der Molen
URL:https://jasmijnkoelink.com/programma/hatha-yoga-2021-02-16/
CATEGORIES:Amsterdam,Delight Yoga,Les
ATTACH;FMTTYPE=image/jpeg:https://jasmijnkoelink.com/wp-content/uploads/2016/11/Programs.jpg
END:VEVENT
BEGIN:VEVENT
DTSTART;TZID=UTC:20210223T200000
DTEND;TZID=UTC:20210223T213000
DTSTAMP:20260423T012729
CREATED:20170418T082829Z
LAST-MODIFIED:20190516T193100Z
UID:5135-1614110400-1614115800@jasmijnkoelink.com
SUMMARY:Hatha Yoga - Delight Yoga Amsterdam
DESCRIPTION:My Hatha Yoga class includes breath-­based yoga movement and mindfulness.\nJoin Jasmijn’s weekly class at Delight Yoga – Amsterdam.\nThis class is accessible for both beginners and advanced practitioners\, as Jasmijn integrates different options and individual guidance. It’s breath-oriented\, intense and relaxing at the same time. Which will have a direct effect on your well-being. \nWith this practice\, your body will feel open and strong\, your breathing unobstructed and your mind calm and steady. \nThe hatha yoga postures are sequenced to create strength\, flexibility\, openness\, and relaxation throughout the practice\, which includes physical strength and discipline\, improved circulation and flexibility\, steadiness of breathing\, clarity of mind\, stress-reduction\, and relaxation.\nThe intensity of the practice can sometimes vary\, and you can make it allways personal to your needs. \n\n\n\nCharacteristic for her teaching style is: devoted\, professional\, attentive\, clear and accessible for Everyone.\n\nMarlies van der Molen
URL:https://jasmijnkoelink.com/programma/hatha-yoga-2021-02-23/
CATEGORIES:Amsterdam,Delight Yoga,Les
ATTACH;FMTTYPE=image/jpeg:https://jasmijnkoelink.com/wp-content/uploads/2016/11/Programs.jpg
END:VEVENT
END:VCALENDAR