BEGIN:VCALENDAR
VERSION:2.0
PRODID:-//Jasmijn Koelink - ECPv6.15.14//NONSGML v1.0//EN
CALSCALE:GREGORIAN
METHOD:PUBLISH
X-ORIGINAL-URL:https://jasmijnkoelink.com
X-WR-CALDESC:Evenementen voor Jasmijn Koelink
REFRESH-INTERVAL;VALUE=DURATION:PT1H
X-Robots-Tag:noindex
X-PUBLISHED-TTL:PT1H
BEGIN:VTIMEZONE
TZID:UTC
BEGIN:STANDARD
TZOFFSETFROM:+0000
TZOFFSETTO:+0000
TZNAME:UTC
DTSTART:20190101T000000
END:STANDARD
END:VTIMEZONE
BEGIN:VEVENT
DTSTART;VALUE=DATE:20200814
DTEND;VALUE=DATE:20200815
DTSTAMP:20260423T215021
CREATED:20200807T132325Z
LAST-MODIFIED:20200807T132403Z
UID:7058-1597363200-1597449599@jasmijnkoelink.com
SUMMARY:Gratis Online Mini Retraite (10AM)
DESCRIPTION:Kom binnen 20 minuten tot rust\nOnline mini retraite met Jasmijn Koelink.\nBevriend je adem en voel je direct beter. Yogadocent en ademcoach Jasmijn Koelink begeleidt je door twee simpele ademhalingstechnieken waarbij je je adem verdiept en vertraagt. Door bewust de overgang te maken van ‘geademd worden’ naar ‘je adem inzetten’\, ben je in staat om sneller en dieper te ontspannen. Het vraagt slechts je aandacht en bereidwilligheid om het uit te proberen. Dus leuk als je deelneemt! \nJe kunt het webinar volgen vanaf je computer\, tablet of telefoon. \n  \nMeld je hier aan.
URL:https://jasmijnkoelink.com/programma/gratis-online-mini-retraite-10am/
CATEGORIES:Live online Zoom Lessen & Workshops
ATTACH;FMTTYPE=image/jpeg:https://jasmijnkoelink.com/wp-content/uploads/2019/03/Jasmijn-Yoga-yoga-livestream-3.jpg
END:VEVENT
END:VCALENDAR