BEGIN:VCALENDAR
VERSION:2.0
PRODID:-//Jasmijn Koelink - ECPv6.15.14//NONSGML v1.0//EN
CALSCALE:GREGORIAN
METHOD:PUBLISH
X-ORIGINAL-URL:https://jasmijnkoelink.com
X-WR-CALDESC:Evenementen voor Jasmijn Koelink
REFRESH-INTERVAL;VALUE=DURATION:PT1H
X-Robots-Tag:noindex
X-PUBLISHED-TTL:PT1H
BEGIN:VTIMEZONE
TZID:UTC
BEGIN:STANDARD
TZOFFSETFROM:+0000
TZOFFSETTO:+0000
TZNAME:UTC
DTSTART:20170101T000000
END:STANDARD
END:VTIMEZONE
BEGIN:VEVENT
DTSTART;VALUE=DATE:20181231
DTEND;VALUE=DATE:20270101
DTSTAMP:20260424T004548
CREATED:20190515T124621Z
LAST-MODIFIED:20260107T203238Z
UID:5585-1546214400-1798761599@jasmijnkoelink.com
SUMMARY:Maandag: Yin Yoga @Yoga Moves 6.45PM
DESCRIPTION:Relax\, Renew\, De-stress.\nJoin my weekly breath-based Yin Yoga class at Yoga Moves – Utrecht.\nYin Yoga mainly consists of sitting and lying postures that you hold for longer periods of time. The emphasis in this practice is not muscle strengthening\, but actually the complete surrender of muscle tension. While offering full attention to your body and mind\, you relax as much as possible in a posture. This causes pressure in your joints while your connective tissue\, cartilage and tendons get stretched so that they can recover\, strengthen and refresh. At the same time\, certain pressure points and meridians in your body get activated. Life energy (“Chi”) is allowed to flow better\, benefiting your organs\, health and emotional state of being. Making a Yin session like an acupuncture treatment you give yourself. \nYin yoga is good when you feel stiff or restless. It has a meditative quality\, sometimes confrontational and powerful. This form is very suitable to alternate with more active yoga styles or sports. \nJasmijn’s classes are suitable for everybody. \n\n\nJasmijn’s weekly yin yoga class consistently helps me to clear my mind after a busy week\, and refreshes my energy levels. The simple approach is surprising: just sitting\, breathing and drifting off from wordly concerns\, always does the trick. \nSandra van Blitterswijk
URL:https://jasmijnkoelink.com/programma/maandag-yin-yoga-moves-7pm/
LOCATION:Yoga Moves\, St. Janshovenstraat 1\, Utrecht\, Netherlands
CATEGORIES:Wekelijkse lessen
ATTACH;FMTTYPE=image/jpeg:https://jasmijnkoelink.com/wp-content/uploads/2019/03/Jasmijn-Yoga-homepage-testimonials-2.jpg
END:VEVENT
BEGIN:VEVENT
DTSTART;VALUE=DATE:20230825
DTEND;VALUE=DATE:20230828
DTSTAMP:20260424T004548
CREATED:20221128T103719Z
LAST-MODIFIED:20230823T113107Z
UID:7724-1692921600-1693180799@jasmijnkoelink.com
SUMMARY:Total Stress Release - Aan de Hei VOL
DESCRIPTION:Yogaweekend aan de Hei ism Happy Soul Travel \nop de Hoorneboeg\nHet programma\nOnze yogaweekenden starten altijd op vrijdagmiddag rond 16:30 uur met een korte introductie. Aansluitend volgt het diner in de stijlvolle woonkamer met haardkachel en grote ramen uitkijkend op de tuin en het bos. Na het diner volgt een meer uitgebreide kennismaking met de groep en een eerste yogales. Op zaterdag starten we met een meer dynamische yogales gevolgd door een uitgebreide brunch. Ook hierna is er weer voldoende me-time om zelf in te vullen\, je kunt bijvoorbeeld lekker de natuur in gaan of gebruik maken van de sauna of een massage ondergaan. In de middag is er nog een healthy snack en een meer verstilde yogales\, gevolgd door het diner. Op zondag hebben we weer een dynamische yogales en een lekkere brunch. Daarna heb je nog ruim tijd voor een wandeling\, massage of op een andere manier ontspannen. We eindigen met een laatste meditatie ’s middags en een afsluitende ronde. \nLet op: Alle lessen worden in het Nederlands of Engels gegeven afhankelijk van de docent en deelnemers. Alle docenten spreken Nederlands\, dus vragen kun je altijd in het Nederlands stellen. Globaal is het programma als hierboven maar dit kan een beetje afwijken per weekend. \n\nYogaweekend met Jasmijn: Total Stress Release\n\nOrganisatiepsycholoog en yogadocent Jasmijn Koelink is een Yoga Alliance® erkende docent. Haar lesstijl is geschikt voor zowel beginners als ervaren yogabeoefenaars\, omdat Jasmijn verschillende opties en individuele begeleiding integreert in haar lessen. Alle sessies zijn adem-georiënteerd\, diepgaand en ontspannend tegelijkertijd. Ze geeft al jaren wekelijkse lessen en leidt een van de meest gerenommeerde yoga docentenopleidingen in Nederland. Ze biedt online sessies en gespecialiseerde workshops aan\, zodat je op elk moment en elke tijd gebruikt kunt maken van haar begeleiding. Jasmijn is een gecertificeerd facilitator van The Work© van Byron Katie. Ze ervaart The Work als een yoga beoefening voor de geest. \nTijdens dit programma integreert Jasmijn ook oefeningen van The Work© van Byron Katie in. The Work is een eenvoudige maar diepgaande vorm van (begeleide) meditatie. Met toegankelijke oefeningen word je je gewaar van beperkende en stressvolle overtuigingen of gedachten die je vervolgens bevraagt en daarmee je patronen kan doorbreken. Deze methode van zelfbevraging is inmiddels een onmisbaar onderdeel van Jasmijn’s leven. \nIn combinatie met de andere onderdelen kom je letterlijk op adem. En bewuste ademhaling is één van de meest krachtige -en bewezen- manieren om stress te verminderen en jezelf te bevrijden. En één op de drie mensen heeft – in meer of mindere mate – stress-symptomen zoals ernstige vermoeidheid\, gespannenheid of nervositeit. Jasmijn begeleidt je door verschillende ademhalingsoefeningen om je adem te vertragen\, verlengen of reguleren. Waardoor je je direct lichter en beter voelt. \nErvaar zelf de kracht van je adem en yoga tijdens dit ontspannende weekend. Alle sessies zijn adem georiënteerd en ontspannend tegelijkertijd. In de combinatie van toegankelijke Vinyasa/Hatha en Yin Yoga\, ademhalingsoefeningen en meditatie leer je concrete tools om stress te herkennen in je lichaam en te verminderen. Hierdoor grijp je in voordat het de overhand neemt. Deze technieken kun je direct toepassen in je dagelijks leven. \nDit weekend is geschikt voor zowel beginners en gevorderden\, want Jasmijn integreert verschillende opties en individuele begeleiding in haar lesstijl. Naast de sessies is er voldoende ruimte om te lezen\, te genieten van de omgeving\, een wandeling over de hei of te rusten. De lessen worden in het Nederlands of Engels gegeven\, afhankelijk van de deelnemers. \n  \n\n \n  \n\nSchrijf je nu in voor een heerlijk weekend: kom op adem! \nAdem jezelf stress vrij.\n\nJe kunt je inschrijven via de website van Happy Soul Travel. Daar vind je ook meer informatie over o.a. prijzen en kamertypen. Happy Soul Travel is een organisatie die al meer dan 13 jaar dé specialist is op het gebied van retraites\, in Nederland en daarbuiten. Zij selecteren o.a. bijzondere yoga retraites op diverse bestemmingen en bieden persoonlijk advies op maat naar de ultieme inspiratiereis.
URL:https://jasmijnkoelink.com/programma/total-stress-release-aan-de-hei/
CATEGORIES:Agenda,retraites
ATTACH;FMTTYPE=image/jpeg:https://jasmijnkoelink.com/wp-content/uploads/2021/11/Happy-soul-travel-scaled.jpeg
END:VEVENT
END:VCALENDAR