BEGIN:VCALENDAR
VERSION:2.0
PRODID:-//Jasmijn Koelink - ECPv6.15.14//NONSGML v1.0//EN
CALSCALE:GREGORIAN
METHOD:PUBLISH
X-WR-CALNAME:Jasmijn Koelink
X-ORIGINAL-URL:https://jasmijnkoelink.com
X-WR-CALDESC:Evenementen voor Jasmijn Koelink
REFRESH-INTERVAL;VALUE=DURATION:PT1H
X-Robots-Tag:noindex
X-PUBLISHED-TTL:PT1H
BEGIN:VTIMEZONE
TZID:UTC
BEGIN:STANDARD
TZOFFSETFROM:+0000
TZOFFSETTO:+0000
TZNAME:UTC
DTSTART:20180101T000000
END:STANDARD
END:VTIMEZONE
BEGIN:VEVENT
DTSTART;TZID=UTC:20190506T173000
DTEND;TZID=UTC:20190506T184500
DTSTAMP:20260424T212929
CREATED:20161127T115901Z
LAST-MODIFIED:20190208T210509Z
UID:3043-1557163800-1557168300@jasmijnkoelink.com
SUMMARY:Vinyasa Yoga - Yoga Moves Utrecht
DESCRIPTION:Take a deep breath!\nJoin Jasmijn’s breath-based Vinyasa Yoga class at Yoga Moves Utrecht.\nVinyasa is a dynamic style of yoga\, in which the breath leads the movement. It is intensive and has a clear energetic beginning\, middle and end. The challenge in this kind of flow movement is to remain aware of a good alignment of your body\, to prevent injuries. Because the heart rate goes up and you increase your lung capacity\, vinyasa yoga has an activating effect. It’s a great practice if you want to develop more (muscle) strength and you are looking for a challenging practice -physically and emotionally. As a result\, you don’t only expand your stamina but also your inner power\, concentration and vitality. You will feel better and sleep better. \n\n\n\nCharacteristic for her teaching style is: devoted\, professional\, attentive\, clear and accessible for Everyone.\n\nMarlies van der Molen
URL:https://jasmijnkoelink.com/programma/vinyasa-yoga-2019-05-06/
LOCATION:Yoga Moves\, St. Janshovenstraat 1\, Utrecht\, Netherlands
CATEGORIES:Les,Utrecht,Yoga Moves
ATTACH;FMTTYPE=image/jpeg:https://jasmijnkoelink.com/wp-content/uploads/2016/11/jasmijn-yin-flow.jpg
END:VEVENT
BEGIN:VEVENT
DTSTART;TZID=UTC:20190506T190000
DTEND;TZID=UTC:20190506T201500
DTSTAMP:20260424T212929
CREATED:20161127T120033Z
LAST-MODIFIED:20190208T210922Z
UID:2860-1557169200-1557173700@jasmijnkoelink.com
SUMMARY:Yin Yoga - Yoga Moves Utrecht
DESCRIPTION:Relax\, Renew\, De-stress.\nJoin my weekly breath based Yin Yoga class at Yoga Moves – Utrecht.\nYin Yoga mainly consists of sitting and lying postures that you hold for longer periods of time. The emphasis in this practice is not muscle strengthening\, but actually the complete surrender of muscle tension. While offering full attention to your body and mind\, you relax as much as possible in a posture. This causes pressure in your joints while your connective tissue\, cartilage and tendons get stretched so that they can recover\, strengthen and refresh. At the same time\, certain pressure points and meridians in your body get activated. Life energy (“Chi”) is allowed to flow better\, benefiting your organs\, health and emotional state of being. Making a Yin session like an acupuncture treatment you give yourself. \nYin yoga is good when you feel stiff or restless. It has a meditative quality\, sometimes confrontational and powerful. This form is very suitable to alternate with more active yoga styles or sports. \nJasmijn’s classes are suitable for everybody. \n\n\n\nJasmijn’s weekly yin yoga class consistently helps me to clear my mind after a busy week\, and refreshes my energy levels. The simple approach is surprising: just sitting\, breathing and drifting off from wordly concerns\, always does the trick.\n\nSandra van Blitterswijk
URL:https://jasmijnkoelink.com/programma/yin-yoga-2019-05-06/
LOCATION:Yoga Moves\, St. Janshovenstraat 1\, Utrecht\, Netherlands
CATEGORIES:Les,Utrecht,Yoga Moves
ATTACH;FMTTYPE=image/jpeg:https://jasmijnkoelink.com/wp-content/uploads/2016/11/Jasmijn-Koelink-Yoga-Privelessen.jpg
END:VEVENT
BEGIN:VEVENT
DTSTART;TZID=UTC:20190507T180000
DTEND;TZID=UTC:20190507T193000
DTSTAMP:20260424T212929
CREATED:20170418T082413Z
LAST-MODIFIED:20190208T205828Z
UID:4131-1557252000-1557257400@jasmijnkoelink.com
SUMMARY:Yin Yoga - Delight Yoga Amsterdam
DESCRIPTION:Relax\, Renew\, De-stress.\nJoin my weekly breath based Yin Yoga class at Delight Yoga – Amsterdam.\nYin Yoga mainly consists of sitting and lying postures that you hold for longer periods of time. The emphasis in this practice is not muscle strengthening\, but actually the complete surrender of muscle tension. While offering full attention to your body and mind\, you relax as much as possible in a posture. This causes pressure in your joints while your connective tissue\, cartilage and tendons gets stretched so that they can recover\, strengthen and refresh. At the same time\, certain pressure points and meridians in your body get activated. Life energy (“Chi”) is allowed to flow better\, benefiting your organs\, health and emotional state of being. Making a Yin session like an acupuncture treatment you give yourself. \nYin yoga is good when you feel stiff or restless. It has a meditative quality\, sometimes confrontational and powerful. This form is very suitable to alternate with more active yoga styles or sports. \n\n\n\nJasmijn’s weekly yin yoga class consistently helps me to clear my mind after a busy week\, and refreshes my energy levels. The simple approach is surprising: just sitting\, breathing and drifting off from wordly concerns\, always does the trick.\n\nSandra van Blitterswijk
URL:https://jasmijnkoelink.com/programma/yin-yoga-delight-yoga-2019-05-07/
LOCATION:Delight Yoga\, Nieuwe Achtergracht 11\, Amsterdam\, Netherlands
CATEGORIES:Amsterdam,Delight Yoga,Les
ATTACH;FMTTYPE=image/jpeg:https://jasmijnkoelink.com/wp-content/uploads/2016/11/Jasmijn-Koelink-Yoga-Privelessen.jpg
END:VEVENT
BEGIN:VEVENT
DTSTART;TZID=UTC:20190507T200000
DTEND;TZID=UTC:20190507T213000
DTSTAMP:20260424T212929
CREATED:20170418T082829Z
LAST-MODIFIED:20170418T082829Z
UID:4329-1557259200-1557264600@jasmijnkoelink.com
SUMMARY:Hatha Yoga - Delight Yoga Amsterdam
DESCRIPTION:My Hatha Yoga class includes breath-­based yoga movement and mindfulness.\nJoin Jasmijn’s weekly class at Delight Yoga – Amsterdam.\nThis class is accessible for both beginners and advanced practitioners\, as Jasmijn integrates different options and individual guidance. It’s breath-oriented\, intense and relaxing at the same time. Which will have a direct effect on your well-being. \nWith this practice\, your body will feel open and strong\, your breathing unobstructed and your mind calm and steady. \nThe hatha yoga postures are sequenced to create strength\, flexibility\, openness\, and relaxation throughout the practice\, which includes physical strength and discipline\, improved circulation and flexibility\, steadiness of breathing\, clarity of mind\, stress-reduction\, and relaxation.\nThe intensity of the practice can sometimes vary\, and you can make it allways personal to your needs. \n\n\n\nCharacteristic for her teaching style is: devoted\, professional\, attentive\, clear and accessible for Everyone.\n\nMarlies van der Molen
URL:https://jasmijnkoelink.com/programma/hatha-yoga-2019-05-07/
CATEGORIES:Amsterdam,Delight Yoga,Les
ATTACH;FMTTYPE=image/jpeg:https://jasmijnkoelink.com/wp-content/uploads/2016/11/Programs.jpg
END:VEVENT
BEGIN:VEVENT
DTSTART;TZID=UTC:20190513T173000
DTEND;TZID=UTC:20190513T184500
DTSTAMP:20260424T212929
CREATED:20161127T115901Z
LAST-MODIFIED:20190208T210510Z
UID:3044-1557768600-1557773100@jasmijnkoelink.com
SUMMARY:Vinyasa Yoga - Yoga Moves Utrecht
DESCRIPTION:Take a deep breath!\nJoin Jasmijn’s breath-based Vinyasa Yoga class at Yoga Moves Utrecht.\nVinyasa is a dynamic style of yoga\, in which the breath leads the movement. It is intensive and has a clear energetic beginning\, middle and end. The challenge in this kind of flow movement is to remain aware of a good alignment of your body\, to prevent injuries. Because the heart rate goes up and you increase your lung capacity\, vinyasa yoga has an activating effect. It’s a great practice if you want to develop more (muscle) strength and you are looking for a challenging practice -physically and emotionally. As a result\, you don’t only expand your stamina but also your inner power\, concentration and vitality. You will feel better and sleep better. \n\n\n\nCharacteristic for her teaching style is: devoted\, professional\, attentive\, clear and accessible for Everyone.\n\nMarlies van der Molen
URL:https://jasmijnkoelink.com/programma/vinyasa-yoga-2019-05-13/
LOCATION:Yoga Moves\, St. Janshovenstraat 1\, Utrecht\, Netherlands
CATEGORIES:Les,Utrecht,Yoga Moves
ATTACH;FMTTYPE=image/jpeg:https://jasmijnkoelink.com/wp-content/uploads/2016/11/jasmijn-yin-flow.jpg
END:VEVENT
BEGIN:VEVENT
DTSTART;TZID=UTC:20190513T190000
DTEND;TZID=UTC:20190513T201500
DTSTAMP:20260424T212929
CREATED:20161127T120033Z
LAST-MODIFIED:20190208T210924Z
UID:2861-1557774000-1557778500@jasmijnkoelink.com
SUMMARY:Yin Yoga - Yoga Moves Utrecht
DESCRIPTION:Relax\, Renew\, De-stress.\nJoin my weekly breath based Yin Yoga class at Yoga Moves – Utrecht.\nYin Yoga mainly consists of sitting and lying postures that you hold for longer periods of time. The emphasis in this practice is not muscle strengthening\, but actually the complete surrender of muscle tension. While offering full attention to your body and mind\, you relax as much as possible in a posture. This causes pressure in your joints while your connective tissue\, cartilage and tendons get stretched so that they can recover\, strengthen and refresh. At the same time\, certain pressure points and meridians in your body get activated. Life energy (“Chi”) is allowed to flow better\, benefiting your organs\, health and emotional state of being. Making a Yin session like an acupuncture treatment you give yourself. \nYin yoga is good when you feel stiff or restless. It has a meditative quality\, sometimes confrontational and powerful. This form is very suitable to alternate with more active yoga styles or sports. \nJasmijn’s classes are suitable for everybody. \n\n\n\nJasmijn’s weekly yin yoga class consistently helps me to clear my mind after a busy week\, and refreshes my energy levels. The simple approach is surprising: just sitting\, breathing and drifting off from wordly concerns\, always does the trick.\n\nSandra van Blitterswijk
URL:https://jasmijnkoelink.com/programma/yin-yoga-2019-05-13/
LOCATION:Yoga Moves\, St. Janshovenstraat 1\, Utrecht\, Netherlands
CATEGORIES:Les,Utrecht,Yoga Moves
ATTACH;FMTTYPE=image/jpeg:https://jasmijnkoelink.com/wp-content/uploads/2016/11/Jasmijn-Koelink-Yoga-Privelessen.jpg
END:VEVENT
BEGIN:VEVENT
DTSTART;TZID=UTC:20190514T180000
DTEND;TZID=UTC:20190514T193000
DTSTAMP:20260424T212929
CREATED:20170418T082413Z
LAST-MODIFIED:20190208T205830Z
UID:4132-1557856800-1557862200@jasmijnkoelink.com
SUMMARY:Yin Yoga - Delight Yoga Amsterdam
DESCRIPTION:Relax\, Renew\, De-stress.\nJoin my weekly breath based Yin Yoga class at Delight Yoga – Amsterdam.\nYin Yoga mainly consists of sitting and lying postures that you hold for longer periods of time. The emphasis in this practice is not muscle strengthening\, but actually the complete surrender of muscle tension. While offering full attention to your body and mind\, you relax as much as possible in a posture. This causes pressure in your joints while your connective tissue\, cartilage and tendons gets stretched so that they can recover\, strengthen and refresh. At the same time\, certain pressure points and meridians in your body get activated. Life energy (“Chi”) is allowed to flow better\, benefiting your organs\, health and emotional state of being. Making a Yin session like an acupuncture treatment you give yourself. \nYin yoga is good when you feel stiff or restless. It has a meditative quality\, sometimes confrontational and powerful. This form is very suitable to alternate with more active yoga styles or sports. \n\n\n\nJasmijn’s weekly yin yoga class consistently helps me to clear my mind after a busy week\, and refreshes my energy levels. The simple approach is surprising: just sitting\, breathing and drifting off from wordly concerns\, always does the trick.\n\nSandra van Blitterswijk
URL:https://jasmijnkoelink.com/programma/yin-yoga-delight-yoga-2019-05-14/
LOCATION:Delight Yoga\, Nieuwe Achtergracht 11\, Amsterdam\, Netherlands
CATEGORIES:Amsterdam,Delight Yoga,Les
ATTACH;FMTTYPE=image/jpeg:https://jasmijnkoelink.com/wp-content/uploads/2016/11/Jasmijn-Koelink-Yoga-Privelessen.jpg
END:VEVENT
BEGIN:VEVENT
DTSTART;TZID=UTC:20190514T200000
DTEND;TZID=UTC:20190514T213000
DTSTAMP:20260424T212929
CREATED:20170418T082829Z
LAST-MODIFIED:20170418T082829Z
UID:4330-1557864000-1557869400@jasmijnkoelink.com
SUMMARY:Hatha Yoga - Delight Yoga Amsterdam
DESCRIPTION:My Hatha Yoga class includes breath-­based yoga movement and mindfulness.\nJoin Jasmijn’s weekly class at Delight Yoga – Amsterdam.\nThis class is accessible for both beginners and advanced practitioners\, as Jasmijn integrates different options and individual guidance. It’s breath-oriented\, intense and relaxing at the same time. Which will have a direct effect on your well-being. \nWith this practice\, your body will feel open and strong\, your breathing unobstructed and your mind calm and steady. \nThe hatha yoga postures are sequenced to create strength\, flexibility\, openness\, and relaxation throughout the practice\, which includes physical strength and discipline\, improved circulation and flexibility\, steadiness of breathing\, clarity of mind\, stress-reduction\, and relaxation.\nThe intensity of the practice can sometimes vary\, and you can make it allways personal to your needs. \n\n\n\nCharacteristic for her teaching style is: devoted\, professional\, attentive\, clear and accessible for Everyone.\n\nMarlies van der Molen
URL:https://jasmijnkoelink.com/programma/hatha-yoga-2019-05-14/
CATEGORIES:Amsterdam,Delight Yoga,Les
ATTACH;FMTTYPE=image/jpeg:https://jasmijnkoelink.com/wp-content/uploads/2016/11/Programs.jpg
END:VEVENT
BEGIN:VEVENT
DTSTART;TZID=UTC:20190520T173000
DTEND;TZID=UTC:20190520T184500
DTSTAMP:20260424T212929
CREATED:20161127T115901Z
LAST-MODIFIED:20190208T210512Z
UID:3045-1558373400-1558377900@jasmijnkoelink.com
SUMMARY:Vinyasa Yoga - Yoga Moves Utrecht
DESCRIPTION:Take a deep breath!\nJoin Jasmijn’s breath-based Vinyasa Yoga class at Yoga Moves Utrecht.\nVinyasa is a dynamic style of yoga\, in which the breath leads the movement. It is intensive and has a clear energetic beginning\, middle and end. The challenge in this kind of flow movement is to remain aware of a good alignment of your body\, to prevent injuries. Because the heart rate goes up and you increase your lung capacity\, vinyasa yoga has an activating effect. It’s a great practice if you want to develop more (muscle) strength and you are looking for a challenging practice -physically and emotionally. As a result\, you don’t only expand your stamina but also your inner power\, concentration and vitality. You will feel better and sleep better. \n\n\n\nCharacteristic for her teaching style is: devoted\, professional\, attentive\, clear and accessible for Everyone.\n\nMarlies van der Molen
URL:https://jasmijnkoelink.com/programma/vinyasa-yoga-2019-05-20/
LOCATION:Yoga Moves\, St. Janshovenstraat 1\, Utrecht\, Netherlands
CATEGORIES:Les,Utrecht,Yoga Moves
ATTACH;FMTTYPE=image/jpeg:https://jasmijnkoelink.com/wp-content/uploads/2016/11/jasmijn-yin-flow.jpg
END:VEVENT
BEGIN:VEVENT
DTSTART;TZID=UTC:20190520T190000
DTEND;TZID=UTC:20190520T201500
DTSTAMP:20260424T212929
CREATED:20161127T120033Z
LAST-MODIFIED:20190208T210925Z
UID:2862-1558378800-1558383300@jasmijnkoelink.com
SUMMARY:Yin Yoga - Yoga Moves Utrecht
DESCRIPTION:Relax\, Renew\, De-stress.\nJoin my weekly breath based Yin Yoga class at Yoga Moves – Utrecht.\nYin Yoga mainly consists of sitting and lying postures that you hold for longer periods of time. The emphasis in this practice is not muscle strengthening\, but actually the complete surrender of muscle tension. While offering full attention to your body and mind\, you relax as much as possible in a posture. This causes pressure in your joints while your connective tissue\, cartilage and tendons get stretched so that they can recover\, strengthen and refresh. At the same time\, certain pressure points and meridians in your body get activated. Life energy (“Chi”) is allowed to flow better\, benefiting your organs\, health and emotional state of being. Making a Yin session like an acupuncture treatment you give yourself. \nYin yoga is good when you feel stiff or restless. It has a meditative quality\, sometimes confrontational and powerful. This form is very suitable to alternate with more active yoga styles or sports. \nJasmijn’s classes are suitable for everybody. \n\n\n\nJasmijn’s weekly yin yoga class consistently helps me to clear my mind after a busy week\, and refreshes my energy levels. The simple approach is surprising: just sitting\, breathing and drifting off from wordly concerns\, always does the trick.\n\nSandra van Blitterswijk
URL:https://jasmijnkoelink.com/programma/yin-yoga-2019-05-20/
LOCATION:Yoga Moves\, St. Janshovenstraat 1\, Utrecht\, Netherlands
CATEGORIES:Les,Utrecht,Yoga Moves
ATTACH;FMTTYPE=image/jpeg:https://jasmijnkoelink.com/wp-content/uploads/2016/11/Jasmijn-Koelink-Yoga-Privelessen.jpg
END:VEVENT
BEGIN:VEVENT
DTSTART;TZID=UTC:20190521T180000
DTEND;TZID=UTC:20190521T193000
DTSTAMP:20260424T212929
CREATED:20170418T082413Z
LAST-MODIFIED:20190208T205831Z
UID:4133-1558461600-1558467000@jasmijnkoelink.com
SUMMARY:Yin Yoga - Delight Yoga Amsterdam
DESCRIPTION:Relax\, Renew\, De-stress.\nJoin my weekly breath based Yin Yoga class at Delight Yoga – Amsterdam.\nYin Yoga mainly consists of sitting and lying postures that you hold for longer periods of time. The emphasis in this practice is not muscle strengthening\, but actually the complete surrender of muscle tension. While offering full attention to your body and mind\, you relax as much as possible in a posture. This causes pressure in your joints while your connective tissue\, cartilage and tendons gets stretched so that they can recover\, strengthen and refresh. At the same time\, certain pressure points and meridians in your body get activated. Life energy (“Chi”) is allowed to flow better\, benefiting your organs\, health and emotional state of being. Making a Yin session like an acupuncture treatment you give yourself. \nYin yoga is good when you feel stiff or restless. It has a meditative quality\, sometimes confrontational and powerful. This form is very suitable to alternate with more active yoga styles or sports. \n\n\n\nJasmijn’s weekly yin yoga class consistently helps me to clear my mind after a busy week\, and refreshes my energy levels. The simple approach is surprising: just sitting\, breathing and drifting off from wordly concerns\, always does the trick.\n\nSandra van Blitterswijk
URL:https://jasmijnkoelink.com/programma/yin-yoga-delight-yoga-2019-05-21/
LOCATION:Delight Yoga\, Nieuwe Achtergracht 11\, Amsterdam\, Netherlands
CATEGORIES:Amsterdam,Delight Yoga,Les
ATTACH;FMTTYPE=image/jpeg:https://jasmijnkoelink.com/wp-content/uploads/2016/11/Jasmijn-Koelink-Yoga-Privelessen.jpg
END:VEVENT
BEGIN:VEVENT
DTSTART;TZID=UTC:20190521T200000
DTEND;TZID=UTC:20190521T213000
DTSTAMP:20260424T212929
CREATED:20170418T082829Z
LAST-MODIFIED:20170418T082829Z
UID:4332-1558468800-1558474200@jasmijnkoelink.com
SUMMARY:Hatha Yoga - Delight Yoga Amsterdam
DESCRIPTION:My Hatha Yoga class includes breath-­based yoga movement and mindfulness.\nJoin Jasmijn’s weekly class at Delight Yoga – Amsterdam.\nThis class is accessible for both beginners and advanced practitioners\, as Jasmijn integrates different options and individual guidance. It’s breath-oriented\, intense and relaxing at the same time. Which will have a direct effect on your well-being. \nWith this practice\, your body will feel open and strong\, your breathing unobstructed and your mind calm and steady. \nThe hatha yoga postures are sequenced to create strength\, flexibility\, openness\, and relaxation throughout the practice\, which includes physical strength and discipline\, improved circulation and flexibility\, steadiness of breathing\, clarity of mind\, stress-reduction\, and relaxation.\nThe intensity of the practice can sometimes vary\, and you can make it allways personal to your needs. \n\n\n\nCharacteristic for her teaching style is: devoted\, professional\, attentive\, clear and accessible for Everyone.\n\nMarlies van der Molen
URL:https://jasmijnkoelink.com/programma/hatha-yoga-2019-05-21/
CATEGORIES:Amsterdam,Delight Yoga,Les
ATTACH;FMTTYPE=image/jpeg:https://jasmijnkoelink.com/wp-content/uploads/2016/11/Programs.jpg
END:VEVENT
BEGIN:VEVENT
DTSTART;TZID=UTC:20190527T173000
DTEND;TZID=UTC:20190527T184500
DTSTAMP:20260424T212929
CREATED:20161127T115901Z
LAST-MODIFIED:20190208T210513Z
UID:3046-1558978200-1558982700@jasmijnkoelink.com
SUMMARY:Vinyasa Yoga - Yoga Moves Utrecht
DESCRIPTION:Take a deep breath!\nJoin Jasmijn’s breath-based Vinyasa Yoga class at Yoga Moves Utrecht.\nVinyasa is a dynamic style of yoga\, in which the breath leads the movement. It is intensive and has a clear energetic beginning\, middle and end. The challenge in this kind of flow movement is to remain aware of a good alignment of your body\, to prevent injuries. Because the heart rate goes up and you increase your lung capacity\, vinyasa yoga has an activating effect. It’s a great practice if you want to develop more (muscle) strength and you are looking for a challenging practice -physically and emotionally. As a result\, you don’t only expand your stamina but also your inner power\, concentration and vitality. You will feel better and sleep better. \n\n\n\nCharacteristic for her teaching style is: devoted\, professional\, attentive\, clear and accessible for Everyone.\n\nMarlies van der Molen
URL:https://jasmijnkoelink.com/programma/vinyasa-yoga-2019-05-27/
LOCATION:Yoga Moves\, St. Janshovenstraat 1\, Utrecht\, Netherlands
CATEGORIES:Les,Utrecht,Yoga Moves
ATTACH;FMTTYPE=image/jpeg:https://jasmijnkoelink.com/wp-content/uploads/2016/11/jasmijn-yin-flow.jpg
END:VEVENT
BEGIN:VEVENT
DTSTART;TZID=UTC:20190527T190000
DTEND;TZID=UTC:20190527T201500
DTSTAMP:20260424T212929
CREATED:20161127T120033Z
LAST-MODIFIED:20190208T210926Z
UID:2863-1558983600-1558988100@jasmijnkoelink.com
SUMMARY:Yin Yoga - Yoga Moves Utrecht
DESCRIPTION:Relax\, Renew\, De-stress.\nJoin my weekly breath based Yin Yoga class at Yoga Moves – Utrecht.\nYin Yoga mainly consists of sitting and lying postures that you hold for longer periods of time. The emphasis in this practice is not muscle strengthening\, but actually the complete surrender of muscle tension. While offering full attention to your body and mind\, you relax as much as possible in a posture. This causes pressure in your joints while your connective tissue\, cartilage and tendons get stretched so that they can recover\, strengthen and refresh. At the same time\, certain pressure points and meridians in your body get activated. Life energy (“Chi”) is allowed to flow better\, benefiting your organs\, health and emotional state of being. Making a Yin session like an acupuncture treatment you give yourself. \nYin yoga is good when you feel stiff or restless. It has a meditative quality\, sometimes confrontational and powerful. This form is very suitable to alternate with more active yoga styles or sports. \nJasmijn’s classes are suitable for everybody. \n\n\n\nJasmijn’s weekly yin yoga class consistently helps me to clear my mind after a busy week\, and refreshes my energy levels. The simple approach is surprising: just sitting\, breathing and drifting off from wordly concerns\, always does the trick.\n\nSandra van Blitterswijk
URL:https://jasmijnkoelink.com/programma/yin-yoga-2019-05-27/
LOCATION:Yoga Moves\, St. Janshovenstraat 1\, Utrecht\, Netherlands
CATEGORIES:Les,Utrecht,Yoga Moves
ATTACH;FMTTYPE=image/jpeg:https://jasmijnkoelink.com/wp-content/uploads/2016/11/Jasmijn-Koelink-Yoga-Privelessen.jpg
END:VEVENT
BEGIN:VEVENT
DTSTART;TZID=UTC:20190528T180000
DTEND;TZID=UTC:20190528T193000
DTSTAMP:20260424T212929
CREATED:20170418T082413Z
LAST-MODIFIED:20190208T205832Z
UID:4134-1559066400-1559071800@jasmijnkoelink.com
SUMMARY:Yin Yoga - Delight Yoga Amsterdam
DESCRIPTION:Relax\, Renew\, De-stress.\nJoin my weekly breath based Yin Yoga class at Delight Yoga – Amsterdam.\nYin Yoga mainly consists of sitting and lying postures that you hold for longer periods of time. The emphasis in this practice is not muscle strengthening\, but actually the complete surrender of muscle tension. While offering full attention to your body and mind\, you relax as much as possible in a posture. This causes pressure in your joints while your connective tissue\, cartilage and tendons gets stretched so that they can recover\, strengthen and refresh. At the same time\, certain pressure points and meridians in your body get activated. Life energy (“Chi”) is allowed to flow better\, benefiting your organs\, health and emotional state of being. Making a Yin session like an acupuncture treatment you give yourself. \nYin yoga is good when you feel stiff or restless. It has a meditative quality\, sometimes confrontational and powerful. This form is very suitable to alternate with more active yoga styles or sports. \n\n\n\nJasmijn’s weekly yin yoga class consistently helps me to clear my mind after a busy week\, and refreshes my energy levels. The simple approach is surprising: just sitting\, breathing and drifting off from wordly concerns\, always does the trick.\n\nSandra van Blitterswijk
URL:https://jasmijnkoelink.com/programma/yin-yoga-delight-yoga-2019-05-28/
LOCATION:Delight Yoga\, Nieuwe Achtergracht 11\, Amsterdam\, Netherlands
CATEGORIES:Amsterdam,Delight Yoga,Les
ATTACH;FMTTYPE=image/jpeg:https://jasmijnkoelink.com/wp-content/uploads/2016/11/Jasmijn-Koelink-Yoga-Privelessen.jpg
END:VEVENT
BEGIN:VEVENT
DTSTART;TZID=UTC:20190528T200000
DTEND;TZID=UTC:20190528T213000
DTSTAMP:20260424T212929
CREATED:20170418T082829Z
LAST-MODIFIED:20170418T082829Z
UID:4333-1559073600-1559079000@jasmijnkoelink.com
SUMMARY:Hatha Yoga - Delight Yoga Amsterdam
DESCRIPTION:My Hatha Yoga class includes breath-­based yoga movement and mindfulness.\nJoin Jasmijn’s weekly class at Delight Yoga – Amsterdam.\nThis class is accessible for both beginners and advanced practitioners\, as Jasmijn integrates different options and individual guidance. It’s breath-oriented\, intense and relaxing at the same time. Which will have a direct effect on your well-being. \nWith this practice\, your body will feel open and strong\, your breathing unobstructed and your mind calm and steady. \nThe hatha yoga postures are sequenced to create strength\, flexibility\, openness\, and relaxation throughout the practice\, which includes physical strength and discipline\, improved circulation and flexibility\, steadiness of breathing\, clarity of mind\, stress-reduction\, and relaxation.\nThe intensity of the practice can sometimes vary\, and you can make it allways personal to your needs. \n\n\n\nCharacteristic for her teaching style is: devoted\, professional\, attentive\, clear and accessible for Everyone.\n\nMarlies van der Molen
URL:https://jasmijnkoelink.com/programma/hatha-yoga-2019-05-28/
CATEGORIES:Amsterdam,Delight Yoga,Les
ATTACH;FMTTYPE=image/jpeg:https://jasmijnkoelink.com/wp-content/uploads/2016/11/Programs.jpg
END:VEVENT
END:VCALENDAR