BEGIN:VCALENDAR
VERSION:2.0
PRODID:-//Jasmijn Koelink - ECPv6.15.14//NONSGML v1.0//EN
CALSCALE:GREGORIAN
METHOD:PUBLISH
X-WR-CALNAME:Jasmijn Koelink
X-ORIGINAL-URL:https://jasmijnkoelink.com
X-WR-CALDESC:Evenementen voor Jasmijn Koelink
REFRESH-INTERVAL;VALUE=DURATION:PT1H
X-Robots-Tag:noindex
X-PUBLISHED-TTL:PT1H
BEGIN:VTIMEZONE
TZID:UTC
BEGIN:STANDARD
TZOFFSETFROM:+0000
TZOFFSETTO:+0000
TZNAME:UTC
DTSTART:20170101T000000
END:STANDARD
END:VTIMEZONE
BEGIN:VEVENT
DTSTART;TZID=UTC:20181002T180000
DTEND;TZID=UTC:20181002T193000
DTSTAMP:20260419T192749
CREATED:20170418T082413Z
LAST-MODIFIED:20190208T205730Z
UID:4100-1538503200-1538508600@jasmijnkoelink.com
SUMMARY:Yin Yoga - Delight Yoga Amsterdam
DESCRIPTION:Relax\, Renew\, De-stress.\nJoin my weekly breath based Yin Yoga class at Delight Yoga – Amsterdam.\nYin Yoga mainly consists of sitting and lying postures that you hold for longer periods of time. The emphasis in this practice is not muscle strengthening\, but actually the complete surrender of muscle tension. While offering full attention to your body and mind\, you relax as much as possible in a posture. This causes pressure in your joints while your connective tissue\, cartilage and tendons gets stretched so that they can recover\, strengthen and refresh. At the same time\, certain pressure points and meridians in your body get activated. Life energy (“Chi”) is allowed to flow better\, benefiting your organs\, health and emotional state of being. Making a Yin session like an acupuncture treatment you give yourself. \nYin yoga is good when you feel stiff or restless. It has a meditative quality\, sometimes confrontational and powerful. This form is very suitable to alternate with more active yoga styles or sports. \n\n\n\nJasmijn’s weekly yin yoga class consistently helps me to clear my mind after a busy week\, and refreshes my energy levels. The simple approach is surprising: just sitting\, breathing and drifting off from wordly concerns\, always does the trick.\n\nSandra van Blitterswijk
URL:https://jasmijnkoelink.com/programma/yin-yoga-delight-yoga-2018-10-02/
LOCATION:Delight Yoga\, Nieuwe Achtergracht 11\, Amsterdam\, Netherlands
CATEGORIES:Amsterdam,Delight Yoga,Les
ATTACH;FMTTYPE=image/jpeg:https://jasmijnkoelink.com/wp-content/uploads/2016/11/Jasmijn-Koelink-Yoga-Privelessen.jpg
END:VEVENT
BEGIN:VEVENT
DTSTART;TZID=UTC:20181009T180000
DTEND;TZID=UTC:20181009T193000
DTSTAMP:20260419T192749
CREATED:20170418T082413Z
LAST-MODIFIED:20190208T205732Z
UID:4101-1539108000-1539113400@jasmijnkoelink.com
SUMMARY:Yin Yoga - Delight Yoga Amsterdam
DESCRIPTION:Relax\, Renew\, De-stress.\nJoin my weekly breath based Yin Yoga class at Delight Yoga – Amsterdam.\nYin Yoga mainly consists of sitting and lying postures that you hold for longer periods of time. The emphasis in this practice is not muscle strengthening\, but actually the complete surrender of muscle tension. While offering full attention to your body and mind\, you relax as much as possible in a posture. This causes pressure in your joints while your connective tissue\, cartilage and tendons gets stretched so that they can recover\, strengthen and refresh. At the same time\, certain pressure points and meridians in your body get activated. Life energy (“Chi”) is allowed to flow better\, benefiting your organs\, health and emotional state of being. Making a Yin session like an acupuncture treatment you give yourself. \nYin yoga is good when you feel stiff or restless. It has a meditative quality\, sometimes confrontational and powerful. This form is very suitable to alternate with more active yoga styles or sports. \n\n\n\nJasmijn’s weekly yin yoga class consistently helps me to clear my mind after a busy week\, and refreshes my energy levels. The simple approach is surprising: just sitting\, breathing and drifting off from wordly concerns\, always does the trick.\n\nSandra van Blitterswijk
URL:https://jasmijnkoelink.com/programma/yin-yoga-delight-yoga-2018-10-09/
LOCATION:Delight Yoga\, Nieuwe Achtergracht 11\, Amsterdam\, Netherlands
CATEGORIES:Amsterdam,Delight Yoga,Les
ATTACH;FMTTYPE=image/jpeg:https://jasmijnkoelink.com/wp-content/uploads/2016/11/Jasmijn-Koelink-Yoga-Privelessen.jpg
END:VEVENT
BEGIN:VEVENT
DTSTART;VALUE=DATE:20181013
DTEND;VALUE=DATE:20181210
DTSTAMP:20260419T192749
CREATED:20180425T183737Z
LAST-MODIFIED:20180425T183737Z
UID:2131-1539388800-1544399999@jasmijnkoelink.com
SUMMARY:Going Deeper | 8 Day Course
DESCRIPTION:Fine-tune your personal (home) practice\nwith Ingeborg Timmerman & Jasmijn Koelink @ Yoga Moves Utrecht\n\n\n\n\nEnrich your practice and understanding of Yoga and learn how to connect yoga to everyday life questions and issues with our 8-day Going Deeper course for curious\, intermediate and inspired students. \nThis in-depth course will help you determine specific personal approaches that will make your practice fit your life. The focus of this course is on your own practice and understanding. \n\nAre you interested to explore yoga in depth\, outside a teacher training course?\nDo you want to learn how to connect yoga with your everyday life questions and issues?\nFine-tune your personal practice?\nExplore the therapeutic aspects of your yoga practice?\n\nThen our Going Deeper course is just the thing for you! \n\nMore information about the content of this course can be found here!\n\n\nDates and Day Planning Fall 2018 course \n\nSat 13 & Sun 14 Oct\nSat 3 & Sun 4 Nov\nSat 17 & Sun 18 Nov\nSat 8 & Sun 9 Dec\nDaily from 10.00-17.00 | You have an hour lunch break on your own (bring lunch or go out). \nPrice \n€560 Early bird (before 1 Sept) | €635 Late Bird \nLocation \nJan van Scorelstraat 41\, Utrecht
URL:https://jasmijnkoelink.com/programma/going-deeper/
LOCATION:Yoga Moves\, St. Janshovenstraat 1\, Utrecht\, Netherlands
CATEGORIES:Agenda,Training,Workshops & Weekends,Yoga Moves
ATTACH;FMTTYPE=image/jpeg:https://jasmijnkoelink.com/wp-content/uploads/2017/04/adjusting.jpg
END:VEVENT
BEGIN:VEVENT
DTSTART;TZID=UTC:20181016T180000
DTEND;TZID=UTC:20181016T193000
DTSTAMP:20260419T192749
CREATED:20170418T082413Z
LAST-MODIFIED:20190208T205734Z
UID:4102-1539712800-1539718200@jasmijnkoelink.com
SUMMARY:Yin Yoga - Delight Yoga Amsterdam
DESCRIPTION:Relax\, Renew\, De-stress.\nJoin my weekly breath based Yin Yoga class at Delight Yoga – Amsterdam.\nYin Yoga mainly consists of sitting and lying postures that you hold for longer periods of time. The emphasis in this practice is not muscle strengthening\, but actually the complete surrender of muscle tension. While offering full attention to your body and mind\, you relax as much as possible in a posture. This causes pressure in your joints while your connective tissue\, cartilage and tendons gets stretched so that they can recover\, strengthen and refresh. At the same time\, certain pressure points and meridians in your body get activated. Life energy (“Chi”) is allowed to flow better\, benefiting your organs\, health and emotional state of being. Making a Yin session like an acupuncture treatment you give yourself. \nYin yoga is good when you feel stiff or restless. It has a meditative quality\, sometimes confrontational and powerful. This form is very suitable to alternate with more active yoga styles or sports. \n\n\n\nJasmijn’s weekly yin yoga class consistently helps me to clear my mind after a busy week\, and refreshes my energy levels. The simple approach is surprising: just sitting\, breathing and drifting off from wordly concerns\, always does the trick.\n\nSandra van Blitterswijk
URL:https://jasmijnkoelink.com/programma/yin-yoga-delight-yoga-2018-10-16/
LOCATION:Delight Yoga\, Nieuwe Achtergracht 11\, Amsterdam\, Netherlands
CATEGORIES:Amsterdam,Delight Yoga,Les
ATTACH;FMTTYPE=image/jpeg:https://jasmijnkoelink.com/wp-content/uploads/2016/11/Jasmijn-Koelink-Yoga-Privelessen.jpg
END:VEVENT
BEGIN:VEVENT
DTSTART;TZID=UTC:20181023T180000
DTEND;TZID=UTC:20181023T193000
DTSTAMP:20260419T192749
CREATED:20170418T082413Z
LAST-MODIFIED:20190208T205735Z
UID:4103-1540317600-1540323000@jasmijnkoelink.com
SUMMARY:Yin Yoga - Delight Yoga Amsterdam
DESCRIPTION:Relax\, Renew\, De-stress.\nJoin my weekly breath based Yin Yoga class at Delight Yoga – Amsterdam.\nYin Yoga mainly consists of sitting and lying postures that you hold for longer periods of time. The emphasis in this practice is not muscle strengthening\, but actually the complete surrender of muscle tension. While offering full attention to your body and mind\, you relax as much as possible in a posture. This causes pressure in your joints while your connective tissue\, cartilage and tendons gets stretched so that they can recover\, strengthen and refresh. At the same time\, certain pressure points and meridians in your body get activated. Life energy (“Chi”) is allowed to flow better\, benefiting your organs\, health and emotional state of being. Making a Yin session like an acupuncture treatment you give yourself. \nYin yoga is good when you feel stiff or restless. It has a meditative quality\, sometimes confrontational and powerful. This form is very suitable to alternate with more active yoga styles or sports. \n\n\n\nJasmijn’s weekly yin yoga class consistently helps me to clear my mind after a busy week\, and refreshes my energy levels. The simple approach is surprising: just sitting\, breathing and drifting off from wordly concerns\, always does the trick.\n\nSandra van Blitterswijk
URL:https://jasmijnkoelink.com/programma/yin-yoga-delight-yoga-2018-10-23/
LOCATION:Delight Yoga\, Nieuwe Achtergracht 11\, Amsterdam\, Netherlands
CATEGORIES:Amsterdam,Delight Yoga,Les
ATTACH;FMTTYPE=image/jpeg:https://jasmijnkoelink.com/wp-content/uploads/2016/11/Jasmijn-Koelink-Yoga-Privelessen.jpg
END:VEVENT
BEGIN:VEVENT
DTSTART;TZID=UTC:20181030T180000
DTEND;TZID=UTC:20181030T193000
DTSTAMP:20260419T192749
CREATED:20170418T082413Z
LAST-MODIFIED:20190208T205737Z
UID:4104-1540922400-1540927800@jasmijnkoelink.com
SUMMARY:Yin Yoga - Delight Yoga Amsterdam
DESCRIPTION:Relax\, Renew\, De-stress.\nJoin my weekly breath based Yin Yoga class at Delight Yoga – Amsterdam.\nYin Yoga mainly consists of sitting and lying postures that you hold for longer periods of time. The emphasis in this practice is not muscle strengthening\, but actually the complete surrender of muscle tension. While offering full attention to your body and mind\, you relax as much as possible in a posture. This causes pressure in your joints while your connective tissue\, cartilage and tendons gets stretched so that they can recover\, strengthen and refresh. At the same time\, certain pressure points and meridians in your body get activated. Life energy (“Chi”) is allowed to flow better\, benefiting your organs\, health and emotional state of being. Making a Yin session like an acupuncture treatment you give yourself. \nYin yoga is good when you feel stiff or restless. It has a meditative quality\, sometimes confrontational and powerful. This form is very suitable to alternate with more active yoga styles or sports. \n\n\n\nJasmijn’s weekly yin yoga class consistently helps me to clear my mind after a busy week\, and refreshes my energy levels. The simple approach is surprising: just sitting\, breathing and drifting off from wordly concerns\, always does the trick.\n\nSandra van Blitterswijk
URL:https://jasmijnkoelink.com/programma/yin-yoga-delight-yoga-2018-10-30/
LOCATION:Delight Yoga\, Nieuwe Achtergracht 11\, Amsterdam\, Netherlands
CATEGORIES:Amsterdam,Delight Yoga,Les
ATTACH;FMTTYPE=image/jpeg:https://jasmijnkoelink.com/wp-content/uploads/2016/11/Jasmijn-Koelink-Yoga-Privelessen.jpg
END:VEVENT
END:VCALENDAR